BEGIN:VCALENDAR
VERSION:2.0
PRODID:-//ANACS - ECPv6.15.20//NONSGML v1.0//EN
CALSCALE:GREGORIAN
METHOD:PUBLISH
X-ORIGINAL-URL:https://anacs.com
X-WR-CALDESC:Events for ANACS
REFRESH-INTERVAL;VALUE=DURATION:PT1H
X-Robots-Tag:noindex
X-PUBLISHED-TTL:PT1H
BEGIN:VTIMEZONE
TZID:America/Denver
BEGIN:DAYLIGHT
TZOFFSETFROM:-0700
TZOFFSETTO:-0600
TZNAME:MDT
DTSTART:20250309T090000
END:DAYLIGHT
BEGIN:STANDARD
TZOFFSETFROM:-0600
TZOFFSETTO:-0700
TZNAME:MST
DTSTART:20251102T080000
END:STANDARD
BEGIN:DAYLIGHT
TZOFFSETFROM:-0700
TZOFFSETTO:-0600
TZNAME:MDT
DTSTART:20260308T090000
END:DAYLIGHT
BEGIN:STANDARD
TZOFFSETFROM:-0600
TZOFFSETTO:-0700
TZNAME:MST
DTSTART:20261101T080000
END:STANDARD
BEGIN:DAYLIGHT
TZOFFSETFROM:-0700
TZOFFSETTO:-0600
TZNAME:MDT
DTSTART:20270314T090000
END:DAYLIGHT
BEGIN:STANDARD
TZOFFSETFROM:-0600
TZOFFSETTO:-0700
TZNAME:MST
DTSTART:20271107T080000
END:STANDARD
END:VTIMEZONE
BEGIN:VEVENT
DTSTART;VALUE=DATE:20260717
DTEND;VALUE=DATE:20260720
DTSTAMP:20260422T022938
CREATED:20260415T152913Z
LAST-MODIFIED:20260415T153116Z
UID:10002053-1784246400-1784505599@anacs.com
SUMMARY:Ft Smith Coin Show
DESCRIPTION:ANACS Representative:  Gloria Franklin \nShow Promotion:  10 Coins for $160 on Economy Service
URL:https://anacs.com/show/ft-smith-coin-show/
LOCATION:Wyndham City Center Ft Smith City Center\, 700 Rogers Ave\, Ft Smith\, AR\, 72901
GEO:35.385375976562;-94.424598693848
X-APPLE-STRUCTURED-LOCATION;VALUE=URI;X-ADDRESS=Wyndham City Center Ft Smith City Center 700 Rogers Ave Ft Smith AR 72901;X-APPLE-RADIUS=500;X-TITLE=700 Rogers Ave:geo:-94.424598693848,35.385375976562
END:VEVENT
END:VCALENDAR