BEGIN:VCALENDAR
VERSION:2.0
PRODID:-//ANACS - ECPv6.15.20//NONSGML v1.0//EN
CALSCALE:GREGORIAN
METHOD:PUBLISH
X-ORIGINAL-URL:https://anacs.com
X-WR-CALDESC:Events for ANACS
REFRESH-INTERVAL;VALUE=DURATION:PT1H
X-Robots-Tag:noindex
X-PUBLISHED-TTL:PT1H
BEGIN:VTIMEZONE
TZID:UTC
BEGIN:STANDARD
TZOFFSETFROM:+0000
TZOFFSETTO:+0000
TZNAME:UTC
DTSTART:20210101T000000
END:STANDARD
END:VTIMEZONE
BEGIN:VEVENT
DTSTART;VALUE=DATE:20260221
DTEND;VALUE=DATE:20260222
DTSTAMP:20260422T093317
CREATED:20251215T233321Z
LAST-MODIFIED:20251215T233610Z
UID:10001827-1771632000-1771718399@anacs.com
SUMMARY:Greater Chicago Coin Show ***SATURDAY ONLY***
DESCRIPTION:ANACS Representative:  Heather Elledge \nShow Promotion:  10 Coins for $150 on Economy Service
URL:https://anacs.com/show/greater-chicago-coin-show-saturday-only-2/
LOCATION:Park Place of Countryside Banquet Hall\, 6200 Joilet Road\, Countryside\, IL\, United States
GEO:41.776657;-87.8705494
X-APPLE-STRUCTURED-LOCATION;VALUE=URI;X-ADDRESS=Park Place of Countryside Banquet Hall 6200 Joilet Road Countryside IL United States;X-APPLE-RADIUS=500;X-TITLE=6200 Joilet Road:geo:-87.8705494,41.776657
END:VEVENT
BEGIN:VEVENT
DTSTART;VALUE=DATE:20221210
DTEND;VALUE=DATE:20221212
DTSTAMP:20260422T093317
CREATED:20220708T082614Z
LAST-MODIFIED:20220708T082614Z
UID:10000181-1670630400-1670803199@anacs.com
SUMMARY:West Suburban Coin & Collectible Expo
DESCRIPTION:ANACS Will Accept Submissions:\nJuly 10\, 2022\nAugust 14\, 2022\nSeptember 11\, 2022\nOctober 09\, 2022\nDecember 10-11\, 2022 \nANACS Representative:\nHeather Elledge
URL:https://anacs.com/show/west-suburban-coin-collectible-expo-5/
LOCATION:Park Place of Countryside Banquet Hall\, 6200 Joilet Road\, Countryside\, IL\, United States
GEO:41.776657;-87.8705494
X-APPLE-STRUCTURED-LOCATION;VALUE=URI;X-ADDRESS=Park Place of Countryside Banquet Hall 6200 Joilet Road Countryside IL United States;X-APPLE-RADIUS=500;X-TITLE=6200 Joilet Road:geo:-87.8705494,41.776657
END:VEVENT
BEGIN:VEVENT
DTSTART;VALUE=DATE:20221009
DTEND;VALUE=DATE:20221010
DTSTAMP:20260422T093317
CREATED:20220708T073236Z
LAST-MODIFIED:20220708T073236Z
UID:10000159-1665273600-1665359999@anacs.com
SUMMARY:West Suburban Coin & Collectible Expo
DESCRIPTION:ANACS Will Accept Submissions:\nJuly 10\, 2022\nAugust 14\, 2022\nSeptember 11\, 2022\nOctober 09\, 2022\nDecember 10-11\, 2022 \nANACS Representative:\nHeather Elledge
URL:https://anacs.com/show/west-suburban-coin-collectible-expo-4/
LOCATION:Park Place of Countryside Banquet Hall\, 6200 Joilet Road\, Countryside\, IL\, United States
GEO:41.776657;-87.8705494
X-APPLE-STRUCTURED-LOCATION;VALUE=URI;X-ADDRESS=Park Place of Countryside Banquet Hall 6200 Joilet Road Countryside IL United States;X-APPLE-RADIUS=500;X-TITLE=6200 Joilet Road:geo:-87.8705494,41.776657
END:VEVENT
BEGIN:VEVENT
DTSTART;VALUE=DATE:20220911
DTEND;VALUE=DATE:20220912
DTSTAMP:20260422T093317
CREATED:20220708T064747Z
LAST-MODIFIED:20220708T064747Z
UID:10000139-1662854400-1662940799@anacs.com
SUMMARY:West Suburban Coin & Collectible Expo
DESCRIPTION:ANACS Will Accept Submissions:\nJuly 10\, 2022\nAugust 14\, 2022\nSeptember 11\, 2022\nOctober 09\, 2022\nDecember 10-11\, 2022 \nANACS Representative:\nHeather Elledge
URL:https://anacs.com/show/west-suburban-coin-collectible-expo-3/
LOCATION:Park Place of Countryside Banquet Hall\, 6200 Joilet Road\, Countryside\, IL\, United States
GEO:41.776657;-87.8705494
X-APPLE-STRUCTURED-LOCATION;VALUE=URI;X-ADDRESS=Park Place of Countryside Banquet Hall 6200 Joilet Road Countryside IL United States;X-APPLE-RADIUS=500;X-TITLE=6200 Joilet Road:geo:-87.8705494,41.776657
END:VEVENT
BEGIN:VEVENT
DTSTART;VALUE=DATE:20220814
DTEND;VALUE=DATE:20220815
DTSTAMP:20260422T093317
CREATED:20220708T040017Z
LAST-MODIFIED:20220708T040017Z
UID:10000127-1660435200-1660521599@anacs.com
SUMMARY:West Suburban Coin & Collectible Expo
DESCRIPTION:ANACS Will Accept Submissions:\nJuly 10\, 2022\nAugust 14\, 2022\nSeptember 11\, 2022\nOctober 09\, 2022\nDecember 10-11\, 2022 \nANACS Representative:\nHeather Elledge
URL:https://anacs.com/show/west-suburban-coin-collectible-expo-2/
LOCATION:Park Place of Countryside Banquet Hall\, 6200 Joilet Road\, Countryside\, IL\, United States
GEO:41.776657;-87.8705494
X-APPLE-STRUCTURED-LOCATION;VALUE=URI;X-ADDRESS=Park Place of Countryside Banquet Hall 6200 Joilet Road Countryside IL United States;X-APPLE-RADIUS=500;X-TITLE=6200 Joilet Road:geo:-87.8705494,41.776657
END:VEVENT
BEGIN:VEVENT
DTSTART;VALUE=DATE:20220710
DTEND;VALUE=DATE:20220711
DTSTAMP:20260422T093317
CREATED:20220708T011430Z
LAST-MODIFIED:20220708T011438Z
UID:10000107-1657411200-1657497599@anacs.com
SUMMARY:West Suburban Coin & Collectible Expo
DESCRIPTION:ANACS Will Accept Submissions:\nJuly 10\, 2022\nAugust 14\, 2022\nSeptember 11\, 2022\nOctober 09\, 2022\nDecember 10-11\, 2022 \nANACS Representative:\nHeather Elledge
URL:https://anacs.com/show/west-suburban-coin-collectible-expo/
LOCATION:Park Place of Countryside Banquet Hall\, 6200 Joilet Road\, Countryside\, IL\, United States
GEO:41.776657;-87.8705494
X-APPLE-STRUCTURED-LOCATION;VALUE=URI;X-ADDRESS=Park Place of Countryside Banquet Hall 6200 Joilet Road Countryside IL United States;X-APPLE-RADIUS=500;X-TITLE=6200 Joilet Road:geo:-87.8705494,41.776657
END:VEVENT
END:VCALENDAR