BEGIN:VCALENDAR
VERSION:2.0
PRODID:-//ANACS - ECPv6.15.20//NONSGML v1.0//EN
CALSCALE:GREGORIAN
METHOD:PUBLISH
X-WR-CALNAME:ANACS
X-ORIGINAL-URL:https://anacs.com
X-WR-CALDESC:Events for ANACS
REFRESH-INTERVAL;VALUE=DURATION:PT1H
X-Robots-Tag:noindex
X-PUBLISHED-TTL:PT1H
BEGIN:VTIMEZONE
TZID:America/Denver
BEGIN:DAYLIGHT
TZOFFSETFROM:-0700
TZOFFSETTO:-0600
TZNAME:MDT
DTSTART:20240310T090000
END:DAYLIGHT
BEGIN:STANDARD
TZOFFSETFROM:-0600
TZOFFSETTO:-0700
TZNAME:MST
DTSTART:20241103T080000
END:STANDARD
BEGIN:DAYLIGHT
TZOFFSETFROM:-0700
TZOFFSETTO:-0600
TZNAME:MDT
DTSTART:20250309T090000
END:DAYLIGHT
BEGIN:STANDARD
TZOFFSETFROM:-0600
TZOFFSETTO:-0700
TZNAME:MST
DTSTART:20251102T080000
END:STANDARD
BEGIN:DAYLIGHT
TZOFFSETFROM:-0700
TZOFFSETTO:-0600
TZNAME:MDT
DTSTART:20260308T090000
END:DAYLIGHT
BEGIN:STANDARD
TZOFFSETFROM:-0600
TZOFFSETTO:-0700
TZNAME:MST
DTSTART:20261101T080000
END:STANDARD
BEGIN:DAYLIGHT
TZOFFSETFROM:-0700
TZOFFSETTO:-0600
TZNAME:MDT
DTSTART:20270314T090000
END:DAYLIGHT
BEGIN:STANDARD
TZOFFSETFROM:-0600
TZOFFSETTO:-0700
TZNAME:MST
DTSTART:20271107T080000
END:STANDARD
END:VTIMEZONE
BEGIN:VEVENT
DTSTART;VALUE=DATE:20260412
DTEND;VALUE=DATE:20260413
DTSTAMP:20260425T132138
CREATED:20260202T210619Z
LAST-MODIFIED:20260202T210619Z
UID:10001939-1775952000-1776038399@anacs.com
SUMMARY:Burlington Coin Show
DESCRIPTION:ANACS Representative: Bill Kelley \nShow Promotion:  10 Coins for $150 on Economy Service
URL:https://anacs.com/show/burlington-coin-show-14/
LOCATION:Masonic Lodge #2\, 2308 Mountain Holly Road\, Burlington Township\, NJ\, 08016
GEO:40.041086;-74.832267
X-APPLE-STRUCTURED-LOCATION;VALUE=URI;X-ADDRESS=Masonic Lodge #2 2308 Mountain Holly Road Burlington Township NJ 08016;X-APPLE-RADIUS=500;X-TITLE=2308 Mountain Holly Road:geo:-74.832267,40.041086
END:VEVENT
BEGIN:VEVENT
DTSTART;VALUE=DATE:20260308
DTEND;VALUE=DATE:20260309
DTSTAMP:20260425T132138
CREATED:20251125T224310Z
LAST-MODIFIED:20251222T200936Z
UID:10001753-1772928000-1773014399@anacs.com
SUMMARY:Burlington Coin Show
DESCRIPTION:ANACS Representative: Bill Kelley \nShow Promotion:  10 Coins for $150 on Economy Service
URL:https://anacs.com/show/burlington-coin-show-13/
LOCATION:Masonic Lodge #2\, 2308 Mountain Holly Road\, Burlington Township\, NJ\, 08016
GEO:40.041086;-74.832267
X-APPLE-STRUCTURED-LOCATION;VALUE=URI;X-ADDRESS=Masonic Lodge #2 2308 Mountain Holly Road Burlington Township NJ 08016;X-APPLE-RADIUS=500;X-TITLE=2308 Mountain Holly Road:geo:-74.832267,40.041086
END:VEVENT
BEGIN:VEVENT
DTSTART;VALUE=DATE:20260208
DTEND;VALUE=DATE:20260209
DTSTAMP:20260425T132138
CREATED:20251125T224252Z
LAST-MODIFIED:20251222T201002Z
UID:10001752-1770508800-1770595199@anacs.com
SUMMARY:Burlington Coin Show
DESCRIPTION:ANACS Representative: Bill Kelley \nShow Promotion:  10 Coins for $150 on Economy Service
URL:https://anacs.com/show/burlington-coin-show-12/
LOCATION:Masonic Lodge #2\, 2308 Mountain Holly Road\, Burlington Township\, NJ\, 08016
GEO:40.041086;-74.832267
X-APPLE-STRUCTURED-LOCATION;VALUE=URI;X-ADDRESS=Masonic Lodge #2 2308 Mountain Holly Road Burlington Township NJ 08016;X-APPLE-RADIUS=500;X-TITLE=2308 Mountain Holly Road:geo:-74.832267,40.041086
END:VEVENT
BEGIN:VEVENT
DTSTART;VALUE=DATE:20260111
DTEND;VALUE=DATE:20260112
DTSTAMP:20260425T132138
CREATED:20251125T224218Z
LAST-MODIFIED:20251222T201031Z
UID:10001751-1768089600-1768175999@anacs.com
SUMMARY:Burlington Coin Show
DESCRIPTION:ANACS Representative: Bill Kelley \nShow Promotion:  10 Coins for $150 on Economy Service
URL:https://anacs.com/show/burlington-coin-show-9/
LOCATION:Masonic Lodge #2\, 2308 Mountain Holly Road\, Burlington Township\, NJ\, 08016
GEO:40.041086;-74.832267
X-APPLE-STRUCTURED-LOCATION;VALUE=URI;X-ADDRESS=Masonic Lodge #2 2308 Mountain Holly Road Burlington Township NJ 08016;X-APPLE-RADIUS=500;X-TITLE=2308 Mountain Holly Road:geo:-74.832267,40.041086
END:VEVENT
BEGIN:VEVENT
DTSTART;VALUE=DATE:20251214
DTEND;VALUE=DATE:20251215
DTSTAMP:20260425T132138
CREATED:20250716T224606Z
LAST-MODIFIED:20250716T224917Z
UID:10001547-1765670400-1765756799@anacs.com
SUMMARY:Burlington Coin Show
DESCRIPTION:ANACS Representative: Bill Kelley \nShow Promotion:  10 Coins for $140 on Economy Service
URL:https://anacs.com/show/burlington-coin-show-11/
LOCATION:Masonic Lodge #2\, 2308 Mountain Holly Road\, Burlington Township\, NJ\, 08016
GEO:40.041086;-74.832267
X-APPLE-STRUCTURED-LOCATION;VALUE=URI;X-ADDRESS=Masonic Lodge #2 2308 Mountain Holly Road Burlington Township NJ 08016;X-APPLE-RADIUS=500;X-TITLE=2308 Mountain Holly Road:geo:-74.832267,40.041086
END:VEVENT
BEGIN:VEVENT
DTSTART;VALUE=DATE:20251109
DTEND;VALUE=DATE:20251110
DTSTAMP:20260425T132138
CREATED:20250716T224538Z
LAST-MODIFIED:20250716T224538Z
UID:10001546-1762646400-1762732799@anacs.com
SUMMARY:Burlington Coin Show
DESCRIPTION:ANACS Representative: Bill Kelley \nShow Promotion:  10 Coins for $140 on Economy Service
URL:https://anacs.com/show/burlington-coin-show-10/
LOCATION:Masonic Lodge #2\, 2308 Mountain Holly Road\, Burlington Township\, NJ\, 08016
GEO:40.041086;-74.832267
X-APPLE-STRUCTURED-LOCATION;VALUE=URI;X-ADDRESS=Masonic Lodge #2 2308 Mountain Holly Road Burlington Township NJ 08016;X-APPLE-RADIUS=500;X-TITLE=2308 Mountain Holly Road:geo:-74.832267,40.041086
END:VEVENT
BEGIN:VEVENT
DTSTART;VALUE=DATE:20250914
DTEND;VALUE=DATE:20250915
DTSTAMP:20260425T132138
CREATED:20250716T223942Z
LAST-MODIFIED:20250716T224443Z
UID:10001544-1757808000-1757894399@anacs.com
SUMMARY:Burlington Coin Show
DESCRIPTION:ANACS Representative:  Jackie Sannipoli \nShow Promotion:  10 Coins for $140 on Economy Service
URL:https://anacs.com/show/burlington-coin-show-8/
LOCATION:Masonic Lodge #2\, 2308 Mountain Holly Road\, Burlington Township\, NJ\, 08016
GEO:40.041086;-74.832267
X-APPLE-STRUCTURED-LOCATION;VALUE=URI;X-ADDRESS=Masonic Lodge #2 2308 Mountain Holly Road Burlington Township NJ 08016;X-APPLE-RADIUS=500;X-TITLE=2308 Mountain Holly Road:geo:-74.832267,40.041086
END:VEVENT
BEGIN:VEVENT
DTSTART;VALUE=DATE:20250810
DTEND;VALUE=DATE:20250811
DTSTAMP:20260425T132138
CREATED:20250410T153227Z
LAST-MODIFIED:20250410T153227Z
UID:10001458-1754784000-1754870399@anacs.com
SUMMARY:Burlington Coin Show
DESCRIPTION:ANACS Representative:  Bill Kelley \nShow Promotion:  10 Coins for $140 on Economy Service
URL:https://anacs.com/show/burlington-coin-show-7/
LOCATION:Masonic Lodge #2\, 2308 Mountain Holly Road\, Burlington Township\, NJ\, 08016
GEO:40.041086;-74.832267
X-APPLE-STRUCTURED-LOCATION;VALUE=URI;X-ADDRESS=Masonic Lodge #2 2308 Mountain Holly Road Burlington Township NJ 08016;X-APPLE-RADIUS=500;X-TITLE=2308 Mountain Holly Road:geo:-74.832267,40.041086
END:VEVENT
BEGIN:VEVENT
DTSTART;VALUE=DATE:20250713
DTEND;VALUE=DATE:20250714
DTSTAMP:20260425T132138
CREATED:20250410T153208Z
LAST-MODIFIED:20250410T153208Z
UID:10001457-1752364800-1752451199@anacs.com
SUMMARY:Burlington Coin Show
DESCRIPTION:ANACS Representative:  Bill Kelley \nShow Promotion:  10 Coins for $140 on Economy Service
URL:https://anacs.com/show/burlington-coin-show-6/
LOCATION:Masonic Lodge #2\, 2308 Mountain Holly Road\, Burlington Township\, NJ\, 08016
GEO:40.041086;-74.832267
X-APPLE-STRUCTURED-LOCATION;VALUE=URI;X-ADDRESS=Masonic Lodge #2 2308 Mountain Holly Road Burlington Township NJ 08016;X-APPLE-RADIUS=500;X-TITLE=2308 Mountain Holly Road:geo:-74.832267,40.041086
END:VEVENT
BEGIN:VEVENT
DTSTART;VALUE=DATE:20250608
DTEND;VALUE=DATE:20250609
DTSTAMP:20260425T132138
CREATED:20250410T153147Z
LAST-MODIFIED:20250410T153239Z
UID:10001456-1749340800-1749427199@anacs.com
SUMMARY:Burlington Coin Show
DESCRIPTION:ANACS Representative:  Bill Kelley \nShow Promotion:  10 Coins for $140 on Economy Service
URL:https://anacs.com/show/burlington-coin-show-5/
LOCATION:Masonic Lodge #2\, 2308 Mountain Holly Road\, Burlington Township\, NJ\, 08016
GEO:40.041086;-74.832267
X-APPLE-STRUCTURED-LOCATION;VALUE=URI;X-ADDRESS=Masonic Lodge #2 2308 Mountain Holly Road Burlington Township NJ 08016;X-APPLE-RADIUS=500;X-TITLE=2308 Mountain Holly Road:geo:-74.832267,40.041086
END:VEVENT
BEGIN:VEVENT
DTSTART;VALUE=DATE:20250413
DTEND;VALUE=DATE:20250414
DTSTAMP:20260425T132138
CREATED:20241202T210455Z
LAST-MODIFIED:20241202T210506Z
UID:10001270-1744502400-1744588799@anacs.com
SUMMARY:Burlington Coin Show
DESCRIPTION:ANACS Representative:  Bill Kelley \nShow Promotion:  10 Coins for $140 on Economy Service
URL:https://anacs.com/show/burlington-coin-show-4/
LOCATION:Masonic Lodge #2\, 2308 Mountain Holly Road\, Burlington Township\, NJ\, 08016
GEO:40.041086;-74.832267
X-APPLE-STRUCTURED-LOCATION;VALUE=URI;X-ADDRESS=Masonic Lodge #2 2308 Mountain Holly Road Burlington Township NJ 08016;X-APPLE-RADIUS=500;X-TITLE=2308 Mountain Holly Road:geo:-74.832267,40.041086
END:VEVENT
BEGIN:VEVENT
DTSTART;VALUE=DATE:20250309
DTEND;VALUE=DATE:20250310
DTSTAMP:20260425T132138
CREATED:20241202T210438Z
LAST-MODIFIED:20241202T210438Z
UID:10001269-1741478400-1741564799@anacs.com
SUMMARY:Burlington Coin Show
DESCRIPTION:ANACS Representative:  Bill Kelley \nShow Promotion:  10 Coins for $140 on Economy Service
URL:https://anacs.com/show/burlington-coin-show-3/
LOCATION:Masonic Lodge #2\, 2308 Mountain Holly Road\, Burlington Township\, NJ\, 08016
GEO:40.041086;-74.832267
X-APPLE-STRUCTURED-LOCATION;VALUE=URI;X-ADDRESS=Masonic Lodge #2 2308 Mountain Holly Road Burlington Township NJ 08016;X-APPLE-RADIUS=500;X-TITLE=2308 Mountain Holly Road:geo:-74.832267,40.041086
END:VEVENT
BEGIN:VEVENT
DTSTART;VALUE=DATE:20250209
DTEND;VALUE=DATE:20250210
DTSTAMP:20260425T132138
CREATED:20241202T210425Z
LAST-MODIFIED:20241202T210425Z
UID:10001268-1739059200-1739145599@anacs.com
SUMMARY:Burlington Coin Show
DESCRIPTION:ANACS Representative:  Bill Kelley \nShow Promotion:  10 Coins for $140 on Economy Service
URL:https://anacs.com/show/burlington-coin-show-2/
LOCATION:Masonic Lodge #2\, 2308 Mountain Holly Road\, Burlington Township\, NJ\, 08016
GEO:40.041086;-74.832267
X-APPLE-STRUCTURED-LOCATION;VALUE=URI;X-ADDRESS=Masonic Lodge #2 2308 Mountain Holly Road Burlington Township NJ 08016;X-APPLE-RADIUS=500;X-TITLE=2308 Mountain Holly Road:geo:-74.832267,40.041086
END:VEVENT
BEGIN:VEVENT
DTSTART;VALUE=DATE:20250112
DTEND;VALUE=DATE:20250113
DTSTAMP:20260425T132138
CREATED:20241202T210320Z
LAST-MODIFIED:20241202T210400Z
UID:10001267-1736640000-1736726399@anacs.com
SUMMARY:Burlington Coin Show
DESCRIPTION:ANACS Representative:  Bill Kelley \nShow Promotion:  10 Coins for $140 on Economy Service
URL:https://anacs.com/show/burlington-coin-show/
LOCATION:Masonic Lodge #2\, 2308 Mountain Holly Road\, Burlington Township\, NJ\, 08016
GEO:40.041086;-74.832267
X-APPLE-STRUCTURED-LOCATION;VALUE=URI;X-ADDRESS=Masonic Lodge #2 2308 Mountain Holly Road Burlington Township NJ 08016;X-APPLE-RADIUS=500;X-TITLE=2308 Mountain Holly Road:geo:-74.832267,40.041086
END:VEVENT
END:VCALENDAR