BEGIN:VCALENDAR
VERSION:2.0
PRODID:-//ANACS - ECPv6.15.20//NONSGML v1.0//EN
CALSCALE:GREGORIAN
METHOD:PUBLISH
X-WR-CALNAME:ANACS
X-ORIGINAL-URL:https://anacs.com
X-WR-CALDESC:Events for ANACS
REFRESH-INTERVAL;VALUE=DURATION:PT1H
X-Robots-Tag:noindex
X-PUBLISHED-TTL:PT1H
BEGIN:VTIMEZONE
TZID:UTC
BEGIN:STANDARD
TZOFFSETFROM:+0000
TZOFFSETTO:+0000
TZNAME:UTC
DTSTART:20250101T000000
END:STANDARD
END:VTIMEZONE
BEGIN:VTIMEZONE
TZID:America/Denver
BEGIN:DAYLIGHT
TZOFFSETFROM:-0700
TZOFFSETTO:-0600
TZNAME:MDT
DTSTART:20250309T090000
END:DAYLIGHT
BEGIN:STANDARD
TZOFFSETFROM:-0600
TZOFFSETTO:-0700
TZNAME:MST
DTSTART:20251102T080000
END:STANDARD
BEGIN:DAYLIGHT
TZOFFSETFROM:-0700
TZOFFSETTO:-0600
TZNAME:MDT
DTSTART:20260308T090000
END:DAYLIGHT
BEGIN:STANDARD
TZOFFSETFROM:-0600
TZOFFSETTO:-0700
TZNAME:MST
DTSTART:20261101T080000
END:STANDARD
BEGIN:DAYLIGHT
TZOFFSETFROM:-0700
TZOFFSETTO:-0600
TZNAME:MDT
DTSTART:20270314T090000
END:DAYLIGHT
BEGIN:STANDARD
TZOFFSETFROM:-0600
TZOFFSETTO:-0700
TZNAME:MST
DTSTART:20271107T080000
END:STANDARD
END:VTIMEZONE
BEGIN:VEVENT
DTSTART;VALUE=DATE:20260823
DTEND;VALUE=DATE:20260824
DTSTAMP:20260422T004547
CREATED:20260306T220053Z
LAST-MODIFIED:20260306T220053Z
UID:10002016-1787443200-1787529599@anacs.com
SUMMARY:Palm Beach Coin Club Show
DESCRIPTION:ANACS Representative:  Terry Morrissey \nShow Promotion:  10 Coins for $150 on Economy Service
URL:https://anacs.com/show/palm-beach-coin-club-show-45/
LOCATION:American Polish Club\, 4725 Lake Worth Rd\, Greenacres\, FL\, 33463\, United States
GEO:26.6188865;-80.1177546
X-APPLE-STRUCTURED-LOCATION;VALUE=URI;X-ADDRESS=American Polish Club 4725 Lake Worth Rd Greenacres FL 33463 United States;X-APPLE-RADIUS=500;X-TITLE=4725 Lake Worth Rd:geo:-80.1177546,26.6188865
END:VEVENT
BEGIN:VEVENT
DTSTART;VALUE=DATE:20260823
DTEND;VALUE=DATE:20260824
DTSTAMP:20260422T004547
CREATED:20251215T235634Z
LAST-MODIFIED:20251215T235634Z
UID:10001844-1787443200-1787529599@anacs.com
SUMMARY:WNY Coins+ Show
DESCRIPTION:ANACS Representative:  Jim Gerstung \nShow Promotion:  10 Coins for $150 on Economy Service
URL:https://anacs.com/show/wny-coins-show-15/
LOCATION:Quality Inn Crystal Room\, 8250 Park Road\, Batavia\, NY\, 14020
GEO:43.01651;-78.20029
X-APPLE-STRUCTURED-LOCATION;VALUE=URI;X-ADDRESS=Quality Inn Crystal Room 8250 Park Road Batavia NY 14020;X-APPLE-RADIUS=500;X-TITLE=8250 Park Road:geo:-78.20029,43.01651
END:VEVENT
BEGIN:VEVENT
DTSTART;VALUE=DATE:20260823
DTEND;VALUE=DATE:20260824
DTSTAMP:20260422T004547
CREATED:20251014T220340Z
LAST-MODIFIED:20251014T220340Z
UID:10001620-1787443200-1787529599@anacs.com
SUMMARY:Brunswick Coin Club Show
DESCRIPTION:ANACS Representative:  Steve Martin \nShow Promotion:  10 Coins for $140 on Economy Service
URL:https://anacs.com/show/brunswick-coin-club-show-10/
LOCATION:Topsham Fairgrounds\, 54 Elm St\, Topsham\, ME\, 04086\, United States
GEO:43.9261832;-69.9539566
X-APPLE-STRUCTURED-LOCATION;VALUE=URI;X-ADDRESS=Topsham Fairgrounds 54 Elm St Topsham ME 04086 United States;X-APPLE-RADIUS=500;X-TITLE=54 Elm St:geo:-69.9539566,43.9261832
END:VEVENT
BEGIN:VEVENT
DTSTART;VALUE=DATE:20260825
DTEND;VALUE=DATE:20260830
DTSTAMP:20260422T004547
CREATED:20230405T164027Z
LAST-MODIFIED:20250603T155925Z
UID:10000467-1787616000-1788047999@anacs.com
SUMMARY:ANA World's Fair of Money
DESCRIPTION:ANACS Representative:  Jim Gerstung \nShow Promotion:  10 Coins for $150 on Economy Service
URL:https://anacs.com/show/ana-worlds-fair-of-money-4/
LOCATION:David Lawrence Convention Center\, 1000 Fort Duquesne Blvd\, Pittsburgh\, PA\, 15222
GEO:40.4464794;-79.9960551
X-APPLE-STRUCTURED-LOCATION;VALUE=URI;X-ADDRESS=David Lawrence Convention Center 1000 Fort Duquesne Blvd Pittsburgh PA 15222;X-APPLE-RADIUS=500;X-TITLE=1000 Fort Duquesne Blvd:geo:-79.9960551,40.4464794
END:VEVENT
BEGIN:VEVENT
DTSTART;VALUE=DATE:20260828
DTEND;VALUE=DATE:20260830
DTSTAMP:20260422T004547
CREATED:20260113T175538Z
LAST-MODIFIED:20260113T175553Z
UID:10001904-1787875200-1788047999@anacs.com
SUMMARY:Sumter Coin Club Show
DESCRIPTION:ANACS Representative:  Rusty Cumberledge \nShow Promotion:  10 Coins for $150 on Economy Service
URL:https://anacs.com/show/sumter-coin-club-show-3/
LOCATION:St Mark Conference Center\, 2320 Four Bridges Road\, Sumter\, SC\, 29153
GEO:33.983292;-80.416036
X-APPLE-STRUCTURED-LOCATION;VALUE=URI;X-ADDRESS=St Mark Conference Center 2320 Four Bridges Road Sumter SC 29153;X-APPLE-RADIUS=500;X-TITLE=2320 Four Bridges Road:geo:-80.416036,33.983292
END:VEVENT
BEGIN:VEVENT
DTSTART;VALUE=DATE:20260829
DTEND;VALUE=DATE:20260830
DTSTAMP:20260422T004547
CREATED:20251002T220717Z
LAST-MODIFIED:20251002T220717Z
UID:10001601-1787961600-1788047999@anacs.com
SUMMARY:Interstate Coin Club Show
DESCRIPTION:ANACS Representative:  Geoff Fults \nShow Promotion:  10 Coins for $140 on Economy Service
URL:https://anacs.com/show/interstate-coin-club-show-2/
LOCATION:ELKS Lodge BPOE 378 Hagerstown\, 11063 Robinwood Drive\, Hagerstown\, MD\, 21742
GEO:39.619484;-77.679667
X-APPLE-STRUCTURED-LOCATION;VALUE=URI;X-ADDRESS=ELKS Lodge BPOE 378 Hagerstown 11063 Robinwood Drive Hagerstown MD 21742;X-APPLE-RADIUS=500;X-TITLE=11063 Robinwood Drive:geo:-77.679667,39.619484
END:VEVENT
BEGIN:VEVENT
DTSTART;VALUE=DATE:20260830
DTEND;VALUE=DATE:20260831
DTSTAMP:20260422T004547
CREATED:20251216T000224Z
LAST-MODIFIED:20251216T000240Z
UID:10001851-1788048000-1788134399@anacs.com
SUMMARY:Jamestown Coin Show
DESCRIPTION:ANACS Representative:  Jim Gerstung \nShow Promotion:  10 Coins for $150 on Economy Service
URL:https://anacs.com/show/jamestown-coin-show-8/
LOCATION:American Legion Herman Kent Post #777\, 26 Jackson Ave\, Jamestown\, NY\, 14701
GEO:42.0768507;-79.2427793
X-APPLE-STRUCTURED-LOCATION;VALUE=URI;X-ADDRESS=American Legion Herman Kent Post #777 26 Jackson Ave Jamestown NY 14701;X-APPLE-RADIUS=500;X-TITLE=26 Jackson Ave:geo:-79.2427793,42.0768507
END:VEVENT
BEGIN:VEVENT
DTSTART;VALUE=DATE:20260906
DTEND;VALUE=DATE:20260907
DTSTAMP:20260422T004547
CREATED:20260306T215300Z
LAST-MODIFIED:20260306T215300Z
UID:10002002-1788652800-1788739199@anacs.com
SUMMARY:1st Sunday Coin Show Apopka
DESCRIPTION:ANACS Representative:  Terry Morrissey \nShow Promotion:  10 Coins for $150 on Economy Service
URL:https://anacs.com/show/1st-sunday-coin-show-apopka-11/
LOCATION:Apopka Community Center\, 519 S Central Ave\, Apopka\, FL\, 32703
GEO:28.671404;-81.510818
X-APPLE-STRUCTURED-LOCATION;VALUE=URI;X-ADDRESS=Apopka Community Center 519 S Central Ave Apopka FL 32703;X-APPLE-RADIUS=500;X-TITLE=519 S Central Ave:geo:-81.510818,28.671404
END:VEVENT
BEGIN:VEVENT
DTSTART;VALUE=DATE:20260909
DTEND;VALUE=DATE:20260912
DTSTAMP:20260422T004547
CREATED:20260223T220232Z
LAST-MODIFIED:20260223T220232Z
UID:10001976-1788912000-1789171199@anacs.com
SUMMARY:Long Beach Expo
DESCRIPTION:ANACS Representative:  Dennis Fuoss \nShow Promotion:  10 Coins for $150 on Economy Service
URL:https://anacs.com/show/long-beach-expo-10/
LOCATION:Long Beach Convention Center\, 100 South Pine Ave\, Long Beach\, CA\, 90802\, United States
GEO:33.764581;-118.1920637
X-APPLE-STRUCTURED-LOCATION;VALUE=URI;X-ADDRESS=Long Beach Convention Center 100 South Pine Ave Long Beach CA 90802 United States;X-APPLE-RADIUS=500;X-TITLE=100 South Pine Ave:geo:-118.1920637,33.764581
END:VEVENT
BEGIN:VEVENT
DTSTART;VALUE=DATE:20260911
DTEND;VALUE=DATE:20260913
DTSTAMP:20260422T004547
CREATED:20251002T220841Z
LAST-MODIFIED:20251002T220841Z
UID:10001603-1789084800-1789257599@anacs.com
SUMMARY:National Battlefield Coin Show
DESCRIPTION:ANACS Representative:  Geoff Fults \nShow Promotion:  10 Coins for $140 on Economy Service
URL:https://anacs.com/show/national-battlefield-coin-show-11/
LOCATION:Eisenhower Hotel & Conference Center\, 2634 Emmitsburg Road\, Gettysburg\, PA\, United States
GEO:39.7656042;-77.2690707
X-APPLE-STRUCTURED-LOCATION;VALUE=URI;X-ADDRESS=Eisenhower Hotel & Conference Center 2634 Emmitsburg Road Gettysburg PA United States;X-APPLE-RADIUS=500;X-TITLE=2634 Emmitsburg Road:geo:-77.2690707,39.7656042
END:VEVENT
BEGIN:VEVENT
DTSTART;VALUE=DATE:20260912
DTEND;VALUE=DATE:20260913
DTSTAMP:20260422T004547
CREATED:20260306T220550Z
LAST-MODIFIED:20260306T220550Z
UID:10002021-1789171200-1789257599@anacs.com
SUMMARY:Pasco Coin Club Show
DESCRIPTION:ANACS Representative:  Terry Morrissey \nShow Promotion:  10 Coins for $150 on Economy Service
URL:https://anacs.com/show/pasco-coin-club-show-11/
LOCATION:Elks Lodge #2520\, 9135 Denton Ave\, Hudson\, FL\, 34667\, United States
GEO:28.3902617;-82.6628479
X-APPLE-STRUCTURED-LOCATION;VALUE=URI;X-ADDRESS=Elks Lodge #2520 9135 Denton Ave Hudson FL 34667 United States;X-APPLE-RADIUS=500;X-TITLE=9135 Denton Ave:geo:-82.6628479,28.3902617
END:VEVENT
BEGIN:VEVENT
DTSTART;VALUE=DATE:20260912
DTEND;VALUE=DATE:20260913
DTSTAMP:20260422T004547
CREATED:20251114T231927Z
LAST-MODIFIED:20251222T200656Z
UID:10001689-1789171200-1789257599@anacs.com
SUMMARY:Roseville Coin Show
DESCRIPTION:ANACS Representative:  Dana Heriot \nShow Promotion:  10 Coins for $150 on Economy Service
URL:https://anacs.com/show/roseville-coin-show-38/
LOCATION:Roseville Skating Center\, 2661 Civic Center Drive\, Roseville\, MN\, 55113
GEO:45.0217835;-93.150206
X-APPLE-STRUCTURED-LOCATION;VALUE=URI;X-ADDRESS=Roseville Skating Center 2661 Civic Center Drive Roseville MN 55113;X-APPLE-RADIUS=500;X-TITLE=2661 Civic Center Drive:geo:-93.150206,45.0217835
END:VEVENT
END:VCALENDAR