BEGIN:VCALENDAR
VERSION:2.0
PRODID:-//ANACS - ECPv6.15.20//NONSGML v1.0//EN
CALSCALE:GREGORIAN
METHOD:PUBLISH
X-WR-CALNAME:ANACS
X-ORIGINAL-URL:https://anacs.com
X-WR-CALDESC:Events for ANACS
REFRESH-INTERVAL;VALUE=DURATION:PT1H
X-Robots-Tag:noindex
X-PUBLISHED-TTL:PT1H
BEGIN:VTIMEZONE
TZID:UTC
BEGIN:STANDARD
TZOFFSETFROM:+0000
TZOFFSETTO:+0000
TZNAME:UTC
DTSTART:20250101T000000
END:STANDARD
END:VTIMEZONE
BEGIN:VEVENT
DTSTART;VALUE=DATE:20260423
DTEND;VALUE=DATE:20260426
DTSTAMP:20260423T013612
CREATED:20260114T185603Z
LAST-MODIFIED:20260114T185603Z
UID:10001911-1776902400-1777161599@anacs.com
SUMMARY:Central States Convention
DESCRIPTION:ANACS Representative:  Heather Elledge \nShow Promotion:  10 Coins for $150 on Economy Service
URL:https://anacs.com/show/central-states-convention-3/
LOCATION:Schaumburg Renaissance Hotel and Convention Center\, 1551 North Thoreau Drive\, Schaumburg\, IL\, 60173\, United States
GEO:42.0605791;-88.0402823
X-APPLE-STRUCTURED-LOCATION;VALUE=URI;X-ADDRESS=Schaumburg Renaissance Hotel and Convention Center 1551 North Thoreau Drive Schaumburg IL 60173 United States;X-APPLE-RADIUS=500;X-TITLE=1551 North Thoreau Drive:geo:-88.0402823,42.0605791
END:VEVENT
END:VCALENDAR