BEGIN:VCALENDAR
VERSION:2.0
PRODID:-//ANACS - ECPv6.15.20//NONSGML v1.0//EN
CALSCALE:GREGORIAN
METHOD:PUBLISH
X-WR-CALNAME:ANACS
X-ORIGINAL-URL:https://anacs.com
X-WR-CALDESC:Events for ANACS
REFRESH-INTERVAL;VALUE=DURATION:PT1H
X-Robots-Tag:noindex
X-PUBLISHED-TTL:PT1H
BEGIN:VTIMEZONE
TZID:UTC
BEGIN:STANDARD
TZOFFSETFROM:+0000
TZOFFSETTO:+0000
TZNAME:UTC
DTSTART:20250101T000000
END:STANDARD
END:VTIMEZONE
BEGIN:VTIMEZONE
TZID:America/Denver
BEGIN:DAYLIGHT
TZOFFSETFROM:-0700
TZOFFSETTO:-0600
TZNAME:MDT
DTSTART:20250309T090000
END:DAYLIGHT
BEGIN:STANDARD
TZOFFSETFROM:-0600
TZOFFSETTO:-0700
TZNAME:MST
DTSTART:20251102T080000
END:STANDARD
BEGIN:DAYLIGHT
TZOFFSETFROM:-0700
TZOFFSETTO:-0600
TZNAME:MDT
DTSTART:20260308T090000
END:DAYLIGHT
BEGIN:STANDARD
TZOFFSETFROM:-0600
TZOFFSETTO:-0700
TZNAME:MST
DTSTART:20261101T080000
END:STANDARD
BEGIN:DAYLIGHT
TZOFFSETFROM:-0700
TZOFFSETTO:-0600
TZNAME:MDT
DTSTART:20270314T090000
END:DAYLIGHT
BEGIN:STANDARD
TZOFFSETFROM:-0600
TZOFFSETTO:-0700
TZNAME:MST
DTSTART:20271107T080000
END:STANDARD
END:VTIMEZONE
BEGIN:VEVENT
DTSTART;VALUE=DATE:20260417
DTEND;VALUE=DATE:20260420
DTSTAMP:20260422T162509
CREATED:20251113T181816Z
LAST-MODIFIED:20251113T181816Z
UID:10001668-1776384000-1776643199@anacs.com
SUMMARY:Georgia Numismatic Association Coin Show
DESCRIPTION:ANACS Representative:  Rusty Cumberledge \nShow Promotion:  10 Coins for $140 on Economy Service
URL:https://anacs.com/show/georgia-numismatic-association-coin-show-4/
LOCATION:Dalton Convention Center\, 2211 Tony Ingle Parkway\, Dalton\, GA\, 30720\, United States
GEO:34.7593868;-85.0053158
X-APPLE-STRUCTURED-LOCATION;VALUE=URI;X-ADDRESS=Dalton Convention Center 2211 Tony Ingle Parkway Dalton GA 30720 United States;X-APPLE-RADIUS=500;X-TITLE=2211 Tony Ingle Parkway:geo:-85.0053158,34.7593868
END:VEVENT
BEGIN:VEVENT
DTSTART;VALUE=DATE:20260417
DTEND;VALUE=DATE:20260420
DTSTAMP:20260422T162509
CREATED:20251203T214638Z
LAST-MODIFIED:20251203T214638Z
UID:10001767-1776384000-1776643199@anacs.com
SUMMARY:Albuquerque Coin Club Show
DESCRIPTION:ANACS Representative:  Bill Arnold \nShow Promotion:  10 Coins for $150 on Economy Service
URL:https://anacs.com/show/albuquerque-coin-club-show-8/
LOCATION:Crowne Plaza Hotel Albuquerque\, 1901 University Blvd NE\, Albuquerque\, NM\, 87102
GEO:35.107731;-106.624542
X-APPLE-STRUCTURED-LOCATION;VALUE=URI;X-ADDRESS=Crowne Plaza Hotel Albuquerque 1901 University Blvd NE Albuquerque NM 87102;X-APPLE-RADIUS=500;X-TITLE=1901 University Blvd NE:geo:-106.624542,35.107731
END:VEVENT
BEGIN:VEVENT
DTSTART;VALUE=DATE:20260418
DTEND;VALUE=DATE:20260419
DTSTAMP:20260422T162509
CREATED:20260224T170549Z
LAST-MODIFIED:20260224T170549Z
UID:10001980-1776470400-1776556799@anacs.com
SUMMARY:Clearwater Coin Club Show
DESCRIPTION:ANACS Representative:  Terry Morrissey \nShow Promotion:  10 Coins for $150 on Economy Service
URL:https://anacs.com/show/clearwater-coin-club-show-2/
LOCATION:Countryside Rec Center\, 2640 Sabel Springs Dr\, Clearwater\, FL\, 33761
GEO:28.0241;-82.728058
X-APPLE-STRUCTURED-LOCATION;VALUE=URI;X-ADDRESS=Countryside Rec Center 2640 Sabel Springs Dr Clearwater FL 33761;X-APPLE-RADIUS=500;X-TITLE=2640 Sabel Springs Dr:geo:-82.728058,28.0241
END:VEVENT
BEGIN:VEVENT
DTSTART;VALUE=DATE:20260418
DTEND;VALUE=DATE:20260419
DTSTAMP:20260422T162509
CREATED:20260319T145158Z
LAST-MODIFIED:20260319T145331Z
UID:10002033-1776470400-1776556799@anacs.com
SUMMARY:HICOMO Coin Club Show
DESCRIPTION:ANACS Representative:  Gloria Franklin \nShow Promotion:  10 Coins for $150 on Economy Service
URL:https://anacs.com/show/hicomo-coin-club-show/
LOCATION:Wheatland School\, 18808 State Highway 83\, Wheatland\, MO\, 65779
GEO:37.924512;-93.404156
X-APPLE-STRUCTURED-LOCATION;VALUE=URI;X-ADDRESS=Wheatland School 18808 State Highway 83 Wheatland MO 65779;X-APPLE-RADIUS=500;X-TITLE=18808 State Highway 83:geo:-93.404156,37.924512
END:VEVENT
BEGIN:VEVENT
DTSTART;VALUE=DATE:20260418
DTEND;VALUE=DATE:20260419
DTSTAMP:20260422T162509
CREATED:20260415T174653Z
LAST-MODIFIED:20260415T175038Z
UID:10002054-1776470400-1776556799@anacs.com
SUMMARY:Ft Worth Coin Club Show***SATURDAY ONLY***
DESCRIPTION:ANACS Representative:  Christian Merlo & George Morris \nShow Promotion:  10 Coins for $150 on Economy Service
URL:https://anacs.com/show/ft-worth-coin-club-showsaturday-only/
LOCATION:Pecan Grove Convention Center\, 405 N Las Vegas Trail\, White Settlement\, TX\, 76108
GEO:32.773426055908;-97.46858215332
X-APPLE-STRUCTURED-LOCATION;VALUE=URI;X-ADDRESS=Pecan Grove Convention Center 405 N Las Vegas Trail White Settlement TX 76108;X-APPLE-RADIUS=500;X-TITLE=405 N Las Vegas Trail:geo:-97.46858215332,32.773426055908
END:VEVENT
BEGIN:VEVENT
DTSTART;VALUE=DATE:20260418
DTEND;VALUE=DATE:20260420
DTSTAMP:20260422T162509
CREATED:20260106T210158Z
LAST-MODIFIED:20260106T210158Z
UID:10001878-1776470400-1776643199@anacs.com
SUMMARY:Vienna Coin Show
DESCRIPTION:ANACS Representative:  Geoff Fults \nShow Promotion:  10 Coins for $150 on Economy Service
URL:https://anacs.com/show/vienna-coin-show-4/
LOCATION:Vienna Community Center\, 120 Cherry Street\, Vienna\, VA\, 22180
GEO:38.900753;-77.260477
X-APPLE-STRUCTURED-LOCATION;VALUE=URI;X-ADDRESS=Vienna Community Center 120 Cherry Street Vienna VA 22180;X-APPLE-RADIUS=500;X-TITLE=120 Cherry Street:geo:-77.260477,38.900753
END:VEVENT
BEGIN:VEVENT
DTSTART;VALUE=DATE:20260418
DTEND;VALUE=DATE:20260420
DTSTAMP:20260422T162509
CREATED:20260327T165624Z
LAST-MODIFIED:20260327T165624Z
UID:10002037-1776470400-1776643199@anacs.com
SUMMARY:Scranton Coin Club Show
DESCRIPTION:ANACS Representative:  Bill Kelley \nShow Promotion:  10 Coins for $150 on Economy Service
URL:https://anacs.com/show/scranton-coin-club-show-2/
LOCATION:St Josephs Oblates\, 1880 State Route 315\, Pittston\, PA\, 18460
GEO:41.291943;-75.781059
X-APPLE-STRUCTURED-LOCATION;VALUE=URI;X-ADDRESS=St Josephs Oblates 1880 State Route 315 Pittston PA 18460;X-APPLE-RADIUS=500;X-TITLE=1880 State Route 315:geo:-75.781059,41.291943
END:VEVENT
END:VCALENDAR