BEGIN:VCALENDAR
VERSION:2.0
PRODID:-//ANACS - ECPv6.15.20//NONSGML v1.0//EN
CALSCALE:GREGORIAN
METHOD:PUBLISH
X-WR-CALNAME:ANACS
X-ORIGINAL-URL:https://anacs.com
X-WR-CALDESC:Events for ANACS
REFRESH-INTERVAL;VALUE=DURATION:PT1H
X-Robots-Tag:noindex
X-PUBLISHED-TTL:PT1H
BEGIN:VTIMEZONE
TZID:UTC
BEGIN:STANDARD
TZOFFSETFROM:+0000
TZOFFSETTO:+0000
TZNAME:UTC
DTSTART:20250101T000000
END:STANDARD
END:VTIMEZONE
BEGIN:VEVENT
DTSTART;VALUE=DATE:20260416
DTEND;VALUE=DATE:20260418
DTSTAMP:20260421T033413
CREATED:20260312T164239Z
LAST-MODIFIED:20260312T164239Z
UID:10002030-1776297600-1776470399@anacs.com
SUMMARY:Michigan State Numismatic Society Convention***THRS & FRIDAY ONLY***
DESCRIPTION:ANACS Representative:  Peggy King \nShow Promotion:  10 Coins for $150 on Economy Service
URL:https://anacs.com/show/michigan-state-numismatic-society-conventionthrs-friday-only/
LOCATION:Oakland  Expo Center\, 2212 Mall Drive East\, Waterford Township\, MI\, 28328
GEO:42.648993;-83.329719
X-APPLE-STRUCTURED-LOCATION;VALUE=URI;X-ADDRESS=Oakland  Expo Center 2212 Mall Drive East Waterford Township MI 28328;X-APPLE-RADIUS=500;X-TITLE=2212 Mall Drive East:geo:-83.329719,42.648993
END:VEVENT
BEGIN:VEVENT
DTSTART;VALUE=DATE:20260417
DTEND;VALUE=DATE:20260420
DTSTAMP:20260421T033413
CREATED:20251113T181816Z
LAST-MODIFIED:20251113T181816Z
UID:10001668-1776384000-1776643199@anacs.com
SUMMARY:Georgia Numismatic Association Coin Show
DESCRIPTION:ANACS Representative:  Rusty Cumberledge \nShow Promotion:  10 Coins for $140 on Economy Service
URL:https://anacs.com/show/georgia-numismatic-association-coin-show-4/
LOCATION:Dalton Convention Center\, 2211 Tony Ingle Parkway\, Dalton\, GA\, 30720\, United States
GEO:34.7593868;-85.0053158
X-APPLE-STRUCTURED-LOCATION;VALUE=URI;X-ADDRESS=Dalton Convention Center 2211 Tony Ingle Parkway Dalton GA 30720 United States;X-APPLE-RADIUS=500;X-TITLE=2211 Tony Ingle Parkway:geo:-85.0053158,34.7593868
END:VEVENT
BEGIN:VEVENT
DTSTART;VALUE=DATE:20260417
DTEND;VALUE=DATE:20260420
DTSTAMP:20260421T033413
CREATED:20251203T214638Z
LAST-MODIFIED:20251203T214638Z
UID:10001767-1776384000-1776643199@anacs.com
SUMMARY:Albuquerque Coin Club Show
DESCRIPTION:ANACS Representative:  Bill Arnold \nShow Promotion:  10 Coins for $150 on Economy Service
URL:https://anacs.com/show/albuquerque-coin-club-show-8/
LOCATION:Crowne Plaza Hotel Albuquerque\, 1901 University Blvd NE\, Albuquerque\, NM\, 87102
GEO:35.107731;-106.624542
X-APPLE-STRUCTURED-LOCATION;VALUE=URI;X-ADDRESS=Crowne Plaza Hotel Albuquerque 1901 University Blvd NE Albuquerque NM 87102;X-APPLE-RADIUS=500;X-TITLE=1901 University Blvd NE:geo:-106.624542,35.107731
END:VEVENT
END:VCALENDAR