BEGIN:VCALENDAR
VERSION:2.0
PRODID:-//ANACS - ECPv6.15.20//NONSGML v1.0//EN
CALSCALE:GREGORIAN
METHOD:PUBLISH
X-WR-CALNAME:ANACS
X-ORIGINAL-URL:https://anacs.com
X-WR-CALDESC:Events for ANACS
REFRESH-INTERVAL;VALUE=DURATION:PT1H
X-Robots-Tag:noindex
X-PUBLISHED-TTL:PT1H
BEGIN:VTIMEZONE
TZID:UTC
BEGIN:STANDARD
TZOFFSETFROM:+0000
TZOFFSETTO:+0000
TZNAME:UTC
DTSTART:20250101T000000
END:STANDARD
END:VTIMEZONE
BEGIN:VTIMEZONE
TZID:America/Denver
BEGIN:DAYLIGHT
TZOFFSETFROM:-0700
TZOFFSETTO:-0600
TZNAME:MDT
DTSTART:20250309T090000
END:DAYLIGHT
BEGIN:STANDARD
TZOFFSETFROM:-0600
TZOFFSETTO:-0700
TZNAME:MST
DTSTART:20251102T080000
END:STANDARD
BEGIN:DAYLIGHT
TZOFFSETFROM:-0700
TZOFFSETTO:-0600
TZNAME:MDT
DTSTART:20260308T090000
END:DAYLIGHT
BEGIN:STANDARD
TZOFFSETFROM:-0600
TZOFFSETTO:-0700
TZNAME:MST
DTSTART:20261101T080000
END:STANDARD
BEGIN:DAYLIGHT
TZOFFSETFROM:-0700
TZOFFSETTO:-0600
TZNAME:MDT
DTSTART:20270314T090000
END:DAYLIGHT
BEGIN:STANDARD
TZOFFSETFROM:-0600
TZOFFSETTO:-0700
TZNAME:MST
DTSTART:20271107T080000
END:STANDARD
END:VTIMEZONE
BEGIN:VEVENT
DTSTART;VALUE=DATE:20260327
DTEND;VALUE=DATE:20260330
DTSTAMP:20260423T090624
CREATED:20260319T181623Z
LAST-MODIFIED:20260319T181623Z
UID:10002034-1774569600-1774828799@anacs.com
SUMMARY:California State Numismatic Association Convention
DESCRIPTION:ANACS Representative:  Dennis Fuoss \nShow Promotion:  10 Coins for $150 on Economy Service
URL:https://anacs.com/show/california-state-numismatic-association-convention-5/
LOCATION:Arcadia Masonic Center\, 50 West Duarte Road\, Arcadia\, CA\, 91007\, United States
GEO:34.1285337;-118.0335207
X-APPLE-STRUCTURED-LOCATION;VALUE=URI;X-ADDRESS=Arcadia Masonic Center 50 West Duarte Road Arcadia CA 91007 United States;X-APPLE-RADIUS=500;X-TITLE=50 West Duarte Road:geo:-118.0335207,34.1285337
END:VEVENT
BEGIN:VEVENT
DTSTART;VALUE=DATE:20260329
DTEND;VALUE=DATE:20260330
DTSTAMP:20260423T090624
CREATED:20251024T174122Z
LAST-MODIFIED:20251222T202915Z
UID:10001634-1774742400-1774828799@anacs.com
SUMMARY:South St Paul Coin Show
DESCRIPTION:ANACS Representative:  Dana Heriot \nShow Promotion:  10 Coins for $150 on Economy Service
URL:https://anacs.com/show/south-st-paul-coin-show-23/
LOCATION:UFCW Union Hall\, 266 Hardman Ave N\, South St. Paul\, MN\, United States
GEO:44.895495;-93.032409
X-APPLE-STRUCTURED-LOCATION;VALUE=URI;X-ADDRESS=UFCW Union Hall 266 Hardman Ave N South St. Paul MN United States;X-APPLE-RADIUS=500;X-TITLE=266 Hardman Ave N:geo:-93.032409,44.895495
END:VEVENT
BEGIN:VEVENT
DTSTART;VALUE=DATE:20260329
DTEND;VALUE=DATE:20260330
DTSTAMP:20260423T090624
CREATED:20251215T230521Z
LAST-MODIFIED:20251215T230521Z
UID:10001812-1774742400-1774828799@anacs.com
SUMMARY:Camelback Collectables Coin Show
DESCRIPTION:ANACS Representative:  Mike Bruzas \nShow Promotion:  10 Coins for $150 on Economy Service
URL:https://anacs.com/show/camelback-collectables-coin-show-33/
LOCATION:Phoenix Shrine Auditorium\, 552 N 40th Street\, Phoenix\, AZ\, 85008
GEO:33.454316;-111.9983736
X-APPLE-STRUCTURED-LOCATION;VALUE=URI;X-ADDRESS=Phoenix Shrine Auditorium 552 N 40th Street Phoenix AZ 85008;X-APPLE-RADIUS=500;X-TITLE=552 N 40th Street:geo:-111.9983736,33.454316
END:VEVENT
BEGIN:VEVENT
DTSTART;VALUE=DATE:20260329
DTEND;VALUE=DATE:20260330
DTSTAMP:20260423T090624
CREATED:20251216T000151Z
LAST-MODIFIED:20251216T000151Z
UID:10001850-1774742400-1774828799@anacs.com
SUMMARY:Jamestown Coin Show
DESCRIPTION:ANACS Representative:  Jim Gerstung \nShow Promotion:  10 Coins for $150 on Economy Service
URL:https://anacs.com/show/jamestown-coin-show-7/
LOCATION:American Legion Herman Kent Post #777\, 26 Jackson Ave\, Jamestown\, NY\, 14701
GEO:42.0768507;-79.2427793
X-APPLE-STRUCTURED-LOCATION;VALUE=URI;X-ADDRESS=American Legion Herman Kent Post #777 26 Jackson Ave Jamestown NY 14701;X-APPLE-RADIUS=500;X-TITLE=26 Jackson Ave:geo:-79.2427793,42.0768507
END:VEVENT
BEGIN:VEVENT
DTSTART;VALUE=DATE:20260329
DTEND;VALUE=DATE:20260330
DTSTAMP:20260423T090624
CREATED:20260320T194522Z
LAST-MODIFIED:20260320T194522Z
UID:10002035-1774742400-1774828799@anacs.com
SUMMARY:Elgin Coin Club Coin Show
DESCRIPTION:ANACS Representative:  Heather Elledge \nShow Promotion:  10 Coins for $150 on Economy Service
URL:https://anacs.com/show/elgin-coin-club-coin-show-8/
LOCATION:Holiday Inn & Suites\, 495 Airport Rd\, Elgin\, IL\, United States
GEO:42.0728183;-88.2893732
X-APPLE-STRUCTURED-LOCATION;VALUE=URI;X-ADDRESS=Holiday Inn & Suites 495 Airport Rd Elgin IL United States;X-APPLE-RADIUS=500;X-TITLE=495 Airport Rd:geo:-88.2893732,42.0728183
END:VEVENT
BEGIN:VEVENT
DTSTART;VALUE=DATE:20260329
DTEND;VALUE=DATE:20260330
DTSTAMP:20260423T090624
CREATED:20260326T193727Z
LAST-MODIFIED:20260326T193727Z
UID:10002036-1774742400-1774828799@anacs.com
SUMMARY:Greenhills Classic Coin Show****ANACS NOT ATTENDING****
DESCRIPTION:****ANACS NOT ATTENDING****
URL:https://anacs.com/show/greenhills-classic-coin-showanacs-not-attending/
LOCATION:American Legion Hall Post 530\, 11100 Winton Road\, Cincinnati\, OH\, 45218
GEO:39.27229;-84.52219
X-APPLE-STRUCTURED-LOCATION;VALUE=URI;X-ADDRESS=American Legion Hall Post 530 11100 Winton Road Cincinnati OH 45218;X-APPLE-RADIUS=500;X-TITLE=11100 Winton Road:geo:-84.52219,39.27229
END:VEVENT
END:VCALENDAR