BEGIN:VCALENDAR
VERSION:2.0
PRODID:-//ANACS - ECPv6.15.20//NONSGML v1.0//EN
CALSCALE:GREGORIAN
METHOD:PUBLISH
X-ORIGINAL-URL:https://anacs.com
X-WR-CALDESC:Events for ANACS
REFRESH-INTERVAL;VALUE=DURATION:PT1H
X-Robots-Tag:noindex
X-PUBLISHED-TTL:PT1H
BEGIN:VTIMEZONE
TZID:UTC
BEGIN:STANDARD
TZOFFSETFROM:+0000
TZOFFSETTO:+0000
TZNAME:UTC
DTSTART:20250101T000000
END:STANDARD
END:VTIMEZONE
BEGIN:VTIMEZONE
TZID:America/Denver
BEGIN:DAYLIGHT
TZOFFSETFROM:-0700
TZOFFSETTO:-0600
TZNAME:MDT
DTSTART:20250309T090000
END:DAYLIGHT
BEGIN:STANDARD
TZOFFSETFROM:-0600
TZOFFSETTO:-0700
TZNAME:MST
DTSTART:20251102T080000
END:STANDARD
BEGIN:DAYLIGHT
TZOFFSETFROM:-0700
TZOFFSETTO:-0600
TZNAME:MDT
DTSTART:20260308T090000
END:DAYLIGHT
BEGIN:STANDARD
TZOFFSETFROM:-0600
TZOFFSETTO:-0700
TZNAME:MST
DTSTART:20261101T080000
END:STANDARD
BEGIN:DAYLIGHT
TZOFFSETFROM:-0700
TZOFFSETTO:-0600
TZNAME:MDT
DTSTART:20270314T090000
END:DAYLIGHT
BEGIN:STANDARD
TZOFFSETFROM:-0600
TZOFFSETTO:-0700
TZNAME:MST
DTSTART:20271107T080000
END:STANDARD
END:VTIMEZONE
BEGIN:VEVENT
DTSTART;VALUE=DATE:20260320
DTEND;VALUE=DATE:20260322
DTSTAMP:20260423T090719
CREATED:20260113T174622Z
LAST-MODIFIED:20260113T174622Z
UID:10001894-1773964800-1774137599@anacs.com
SUMMARY:Camden Coin Club Show
DESCRIPTION:ANACS Representative:  Rusty Cumberledge \nShow Promotion:  10 Coins for $150 on Economy Service
URL:https://anacs.com/show/camden-coin-club-show-7/
LOCATION:Camden City Arena\, 420 Broad St\, Camden\, SC\, 29020
GEO:34.2361327;-80.6055041
X-APPLE-STRUCTURED-LOCATION;VALUE=URI;X-ADDRESS=Camden City Arena 420 Broad St Camden SC 29020;X-APPLE-RADIUS=500;X-TITLE=420 Broad St:geo:-80.6055041,34.2361327
END:VEVENT
BEGIN:VEVENT
DTSTART;VALUE=DATE:20260320
DTEND;VALUE=DATE:20260322
DTSTAMP:20260423T090719
CREATED:20260116T185133Z
LAST-MODIFIED:20260116T185259Z
UID:10001923-1773964800-1774137599@anacs.com
SUMMARY:Mid-Missouri Collectors Show
DESCRIPTION:ANACS Representative:  Gloria Franklin \nShow Promotion:  10 Coins for $150 on Economy Service
URL:https://anacs.com/show/mid-missouri-collectors-show/
LOCATION:Lake Ozark Lion’s Club\, 131 Fish Haven Road\, Lake Ozark\, MO\, 65049
GEO:38.180759;-92.6195176
X-APPLE-STRUCTURED-LOCATION;VALUE=URI;X-ADDRESS=Lake Ozark Lion’s Club 131 Fish Haven Road Lake Ozark MO 65049;X-APPLE-RADIUS=500;X-TITLE=131 Fish Haven Road:geo:-92.6195176,38.180759
END:VEVENT
BEGIN:VEVENT
DTSTART;VALUE=DATE:20260320
DTEND;VALUE=DATE:20260323
DTSTAMP:20260423T090719
CREATED:20251024T175217Z
LAST-MODIFIED:20251024T175217Z
UID:10001648-1773964800-1774223999@anacs.com
SUMMARY:Northwest Coin Club Money Show
DESCRIPTION:ANACS Representative:  Dana Heriot \nShow Promotion:  10 Coins for $140 on Economy Service
URL:https://anacs.com/show/northwest-coin-club-money-show-5/
LOCATION:Earle Brown Heritage Center\, 6155 Earle Brown Drive\, Brooklyn Center\, MN\, United States
GEO:45.0669729;-93.3028819
X-APPLE-STRUCTURED-LOCATION;VALUE=URI;X-ADDRESS=Earle Brown Heritage Center 6155 Earle Brown Drive Brooklyn Center MN United States;X-APPLE-RADIUS=500;X-TITLE=6155 Earle Brown Drive:geo:-93.3028819,45.0669729
END:VEVENT
BEGIN:VEVENT
DTSTART;VALUE=DATE:20260320
DTEND;VALUE=DATE:20260323
DTSTAMP:20260423T090719
CREATED:20251203T214207Z
LAST-MODIFIED:20251203T214207Z
UID:10001764-1773964800-1774223999@anacs.com
SUMMARY:Fort Collins Coin Club Spring Show
DESCRIPTION:ANACS Representative:  Bill Arnold \nShow Promotion:  10 Coins for $150 on Economy Service
URL:https://anacs.com/show/fort-collins-coin-club-spring-show/
LOCATION:Larimer County Fairgrounds\, 5280 Arena Circle\, Loveland\, CO\, 80538
GEO:40.4425676;-104.9881699
X-APPLE-STRUCTURED-LOCATION;VALUE=URI;X-ADDRESS=Larimer County Fairgrounds 5280 Arena Circle Loveland CO 80538;X-APPLE-RADIUS=500;X-TITLE=5280 Arena Circle:geo:-104.9881699,40.4425676
END:VEVENT
BEGIN:VEVENT
DTSTART;VALUE=DATE:20260321
DTEND;VALUE=DATE:20260322
DTSTAMP:20260423T090719
CREATED:20251114T235230Z
LAST-MODIFIED:20251114T235230Z
UID:10001715-1774051200-1774137599@anacs.com
SUMMARY:Ancient City Coin Club Show
DESCRIPTION:ANACS Representative:  Terry Morrissey \nShow Promotion:  10 Coins for $140 on Economy Service
URL:https://anacs.com/show/ancient-city-coin-club-show-5/
LOCATION:St. Johns County Agricultural Center\, 3125 Agricultural Center Dr\, St. Augustine\, FL\, 32092\, United States
GEO:29.9048778;-81.4101262
X-APPLE-STRUCTURED-LOCATION;VALUE=URI;X-ADDRESS=St. Johns County Agricultural Center 3125 Agricultural Center Dr St. Augustine FL 32092 United States;X-APPLE-RADIUS=500;X-TITLE=3125 Agricultural Center Dr:geo:-81.4101262,29.9048778
END:VEVENT
BEGIN:VEVENT
DTSTART;VALUE=DATE:20260321
DTEND;VALUE=DATE:20260322
DTSTAMP:20260423T090719
CREATED:20260312T203044Z
LAST-MODIFIED:20260312T203044Z
UID:10002031-1774051200-1774137599@anacs.com
SUMMARY:Norfolk Coin Show
DESCRIPTION:ANACS Representative:  Geoff Fults \nShow Promotion:  10 Coins for $150 on Economy Service
URL:https://anacs.com/show/norfolk-coin-show-3/
LOCATION:VFW Lodge 8409 Norfolk\, 5728 Bartee Street\, Norfolk\, VA\, 23506
GEO:36.847671;-76.208433
X-APPLE-STRUCTURED-LOCATION;VALUE=URI;X-ADDRESS=VFW Lodge 8409 Norfolk 5728 Bartee Street Norfolk VA 23506;X-APPLE-RADIUS=500;X-TITLE=5728 Bartee Street:geo:-76.208433,36.847671
END:VEVENT
BEGIN:VEVENT
DTSTART;VALUE=DATE:20260321
DTEND;VALUE=DATE:20260323
DTSTAMP:20260423T090719
CREATED:20251215T231721Z
LAST-MODIFIED:20251215T231721Z
UID:10001822-1774051200-1774223999@anacs.com
SUMMARY:Texas Coin Show
DESCRIPTION:ANACS Representative:  George Morris \nShow Promotion:  10 Coins for $150 on Economy Service
URL:https://anacs.com/show/texas-coin-show-14/
LOCATION:Grapevine Convention Center\, 1209 South Main Street\, Grapevine\, TX\, 76051
GEO:32.9288899;-97.0763162
X-APPLE-STRUCTURED-LOCATION;VALUE=URI;X-ADDRESS=Grapevine Convention Center 1209 South Main Street Grapevine TX 76051;X-APPLE-RADIUS=500;X-TITLE=1209 South Main Street:geo:-97.0763162,32.9288899
END:VEVENT
END:VCALENDAR