BEGIN:VCALENDAR
VERSION:2.0
PRODID:-//ANACS - ECPv6.15.20//NONSGML v1.0//EN
CALSCALE:GREGORIAN
METHOD:PUBLISH
X-ORIGINAL-URL:https://anacs.com
X-WR-CALDESC:Events for ANACS
REFRESH-INTERVAL;VALUE=DURATION:PT1H
X-Robots-Tag:noindex
X-PUBLISHED-TTL:PT1H
BEGIN:VTIMEZONE
TZID:UTC
BEGIN:STANDARD
TZOFFSETFROM:+0000
TZOFFSETTO:+0000
TZNAME:UTC
DTSTART:20230101T000000
END:STANDARD
END:VTIMEZONE
BEGIN:VEVENT
DTSTART;VALUE=DATE:20240321
DTEND;VALUE=DATE:20240324
DTSTAMP:20260422T174558
CREATED:20230911T200452Z
LAST-MODIFIED:20230911T200452Z
UID:10000615-1710979200-1711238399@anacs.com
SUMMARY:Whitman Baltimore Expo
DESCRIPTION:ANACS Representative:  Bill Kelley \nShow Promotion:  10 Coins for $129 on Economy Service
URL:https://anacs.com/show/whitman-baltimore-expo/
LOCATION:Baltimore Convention Center\, 1 West Pratt Street\, Baltimore\, MD\, 21201\, United States
GEO:39.2856532;-76.6365437
X-APPLE-STRUCTURED-LOCATION;VALUE=URI;X-ADDRESS=Baltimore Convention Center 1 West Pratt Street Baltimore MD 21201 United States;X-APPLE-RADIUS=500;X-TITLE=1 West Pratt Street:geo:-76.6365437,39.2856532
END:VEVENT
BEGIN:VEVENT
DTSTART;VALUE=DATE:20240322
DTEND;VALUE=DATE:20240324
DTSTAMP:20260422T174558
CREATED:20231221T183417Z
LAST-MODIFIED:20231221T183427Z
UID:10000860-1711065600-1711238399@anacs.com
SUMMARY:Camden Coin Club Show
DESCRIPTION:ANACS Representative:  Rusty Cumberledge \nShow Promotion:  10 Coins for $129 on Economy Service
URL:https://anacs.com/show/camden-coin-club-show-3/
LOCATION:Camden City Arena\, 420 Broad St\, Camden\, SC\, 29020
GEO:34.2361327;-80.6055041
X-APPLE-STRUCTURED-LOCATION;VALUE=URI;X-ADDRESS=Camden City Arena 420 Broad St Camden SC 29020;X-APPLE-RADIUS=500;X-TITLE=420 Broad St:geo:-80.6055041,34.2361327
END:VEVENT
BEGIN:VEVENT
DTSTART;VALUE=DATE:20240322
DTEND;VALUE=DATE:20240325
DTSTAMP:20260422T174558
CREATED:20231025T165241Z
LAST-MODIFIED:20231025T165342Z
UID:10000649-1711065600-1711324799@anacs.com
SUMMARY:Northwest Coin Club Money Show
DESCRIPTION:ANACS Representative:  Dana Heriot \nShow Promotion:  10 Coins for $129 on Economy Service
URL:https://anacs.com/show/northwest-coin-club-fall-money-show-2/
LOCATION:Earle Brown Heritage Center\, 6155 Earle Brown Drive\, Brooklyn Center\, MN\, United States
GEO:45.0669729;-93.3028819
X-APPLE-STRUCTURED-LOCATION;VALUE=URI;X-ADDRESS=Earle Brown Heritage Center 6155 Earle Brown Drive Brooklyn Center MN United States;X-APPLE-RADIUS=500;X-TITLE=6155 Earle Brown Drive:geo:-93.3028819,45.0669729
END:VEVENT
END:VCALENDAR