BEGIN:VCALENDAR
VERSION:2.0
PRODID:-//ANACS - ECPv6.15.20//NONSGML v1.0//EN
CALSCALE:GREGORIAN
METHOD:PUBLISH
X-WR-CALNAME:ANACS
X-ORIGINAL-URL:https://anacs.com
X-WR-CALDESC:Events for ANACS
REFRESH-INTERVAL;VALUE=DURATION:PT1H
X-Robots-Tag:noindex
X-PUBLISHED-TTL:PT1H
BEGIN:VTIMEZONE
TZID:America/Denver
BEGIN:DAYLIGHT
TZOFFSETFROM:-0700
TZOFFSETTO:-0600
TZNAME:MDT
DTSTART:20240310T090000
END:DAYLIGHT
BEGIN:STANDARD
TZOFFSETFROM:-0600
TZOFFSETTO:-0700
TZNAME:MST
DTSTART:20241103T080000
END:STANDARD
BEGIN:DAYLIGHT
TZOFFSETFROM:-0700
TZOFFSETTO:-0600
TZNAME:MDT
DTSTART:20250309T090000
END:DAYLIGHT
BEGIN:STANDARD
TZOFFSETFROM:-0600
TZOFFSETTO:-0700
TZNAME:MST
DTSTART:20251102T080000
END:STANDARD
BEGIN:DAYLIGHT
TZOFFSETFROM:-0700
TZOFFSETTO:-0600
TZNAME:MDT
DTSTART:20260308T090000
END:DAYLIGHT
BEGIN:STANDARD
TZOFFSETFROM:-0600
TZOFFSETTO:-0700
TZNAME:MST
DTSTART:20261101T080000
END:STANDARD
END:VTIMEZONE
BEGIN:VEVENT
DTSTART;VALUE=DATE:20250622
DTEND;VALUE=DATE:20250623
DTSTAMP:20260423T124002
CREATED:20241111T204253Z
LAST-MODIFIED:20241111T204253Z
UID:20293-1750550400-1750636799@anacs.com
SUMMARY:WNY Coins+ Show
DESCRIPTION:ANACS Representative:  Jim Gerstung \nShow Promotion:  10 Coins for $140 on Economy Service
URL:https://anacs.com/show/wny-coins-show-4/
LOCATION:Quality Inn Crystal Room\, 8250 Park Road\, Batavia\, NY\, 14020
GEO:43.01651;-78.20029
X-APPLE-STRUCTURED-LOCATION;VALUE=URI;X-ADDRESS=Quality Inn Crystal Room 8250 Park Road Batavia NY 14020;X-APPLE-RADIUS=500;X-TITLE=8250 Park Road:geo:-78.20029,43.01651
END:VEVENT
END:VCALENDAR