BEGIN:VCALENDAR
VERSION:2.0
PRODID:-//ANACS - ECPv6.15.20//NONSGML v1.0//EN
CALSCALE:GREGORIAN
METHOD:PUBLISH
X-WR-CALNAME:ANACS
X-ORIGINAL-URL:https://anacs.com
X-WR-CALDESC:Events for ANACS
REFRESH-INTERVAL;VALUE=DURATION:PT1H
X-Robots-Tag:noindex
X-PUBLISHED-TTL:PT1H
BEGIN:VTIMEZONE
TZID:UTC
BEGIN:STANDARD
TZOFFSETFROM:+0000
TZOFFSETTO:+0000
TZNAME:UTC
DTSTART:20240101T000000
END:STANDARD
END:VTIMEZONE
BEGIN:VEVENT
DTSTART;VALUE=DATE:20251025
DTEND;VALUE=DATE:20251027
DTSTAMP:20260424T104710
CREATED:20241031T172746Z
LAST-MODIFIED:20241031T172756Z
UID:19925-1761350400-1761523199@anacs.com
SUMMARY:Western Slope Coin Show
DESCRIPTION:ANACS Representative:  Bill Arnold \nShow Promotion:  10 Coins for $140 on Economy Service
URL:https://anacs.com/show/western-slope-coin-show-5/
LOCATION:Clarion Inn\, 25 Horizon Dr\, Grand Junction\, CO\, 81501
GEO:39.075059;-108.5522531
X-APPLE-STRUCTURED-LOCATION;VALUE=URI;X-ADDRESS=Clarion Inn 25 Horizon Dr Grand Junction CO 81501;X-APPLE-RADIUS=500;X-TITLE=25 Horizon Dr:geo:-108.5522531,39.075059
END:VEVENT
END:VCALENDAR