BEGIN:VCALENDAR
VERSION:2.0
PRODID:-//ANACS - ECPv6.15.20//NONSGML v1.0//EN
CALSCALE:GREGORIAN
METHOD:PUBLISH
X-WR-CALNAME:ANACS
X-ORIGINAL-URL:https://anacs.com
X-WR-CALDESC:Events for ANACS
REFRESH-INTERVAL;VALUE=DURATION:PT1H
X-Robots-Tag:noindex
X-PUBLISHED-TTL:PT1H
BEGIN:VTIMEZONE
TZID:UTC
BEGIN:STANDARD
TZOFFSETFROM:+0000
TZOFFSETTO:+0000
TZNAME:UTC
DTSTART:20240101T000000
END:STANDARD
END:VTIMEZONE
BEGIN:VEVENT
DTSTART;VALUE=DATE:20250125
DTEND;VALUE=DATE:20250127
DTSTAMP:20260424T211141
CREATED:20241111T203437Z
LAST-MODIFIED:20241111T203456Z
UID:20281-1737763200-1737935999@anacs.com
SUMMARY:West Penn Coin Club Show
DESCRIPTION:ANACS Representative:  Jim Gerstung \nShow Promotion:  10 Coins for $140 on Economy Service
URL:https://anacs.com/show/west-penn-coin-club-show/
LOCATION:Quality Inn New Kensington\, 300 Tarentum Bridge Road\, New Kensington\, PA\, 15068
GEO:40.59458;-79.75221
X-APPLE-STRUCTURED-LOCATION;VALUE=URI;X-ADDRESS=Quality Inn New Kensington 300 Tarentum Bridge Road New Kensington PA 15068;X-APPLE-RADIUS=500;X-TITLE=300 Tarentum Bridge Road:geo:-79.75221,40.59458
END:VEVENT
END:VCALENDAR