BEGIN:VCALENDAR
VERSION:2.0
PRODID:-//ANACS - ECPv6.15.20//NONSGML v1.0//EN
CALSCALE:GREGORIAN
METHOD:PUBLISH
X-WR-CALNAME:ANACS
X-ORIGINAL-URL:https://anacs.com
X-WR-CALDESC:Events for ANACS
REFRESH-INTERVAL;VALUE=DURATION:PT1H
X-Robots-Tag:noindex
X-PUBLISHED-TTL:PT1H
BEGIN:VTIMEZONE
TZID:UTC
BEGIN:STANDARD
TZOFFSETFROM:+0000
TZOFFSETTO:+0000
TZNAME:UTC
DTSTART:20230101T000000
END:STANDARD
END:VTIMEZONE
BEGIN:VEVENT
DTSTART;VALUE=DATE:20241011
DTEND;VALUE=DATE:20241013
DTSTAMP:20260424T183957
CREATED:20240607T161154Z
LAST-MODIFIED:20240607T161154Z
UID:16182-1728604800-1728777599@anacs.com
SUMMARY:Virginia Beach Tidewater Coin Club Show
DESCRIPTION:ANACS Representative:  Geoff Fults \nShow Promotion:  10 Coins for $140 on Economy Service
URL:https://anacs.com/show/virginia-beach-tidewater-coin-club-show-3/
LOCATION:Virginia Beach Convention Center\, 1000 19th St\, Virginia Beach\, VA\, 23471
GEO:36.8462802;-75.9880492
X-APPLE-STRUCTURED-LOCATION;VALUE=URI;X-ADDRESS=Virginia Beach Convention Center 1000 19th St Virginia Beach VA 23471;X-APPLE-RADIUS=500;X-TITLE=1000 19th St:geo:-75.9880492,36.8462802
END:VEVENT
END:VCALENDAR