BEGIN:VCALENDAR
VERSION:2.0
PRODID:-//ANACS - ECPv6.15.20//NONSGML v1.0//EN
CALSCALE:GREGORIAN
METHOD:PUBLISH
X-WR-CALNAME:ANACS
X-ORIGINAL-URL:https://anacs.com
X-WR-CALDESC:Events for ANACS
REFRESH-INTERVAL;VALUE=DURATION:PT1H
X-Robots-Tag:noindex
X-PUBLISHED-TTL:PT1H
BEGIN:VTIMEZONE
TZID:America/Denver
BEGIN:DAYLIGHT
TZOFFSETFROM:-0700
TZOFFSETTO:-0600
TZNAME:MDT
DTSTART:20240310T090000
END:DAYLIGHT
BEGIN:STANDARD
TZOFFSETFROM:-0600
TZOFFSETTO:-0700
TZNAME:MST
DTSTART:20241103T080000
END:STANDARD
BEGIN:DAYLIGHT
TZOFFSETFROM:-0700
TZOFFSETTO:-0600
TZNAME:MDT
DTSTART:20250309T090000
END:DAYLIGHT
BEGIN:STANDARD
TZOFFSETFROM:-0600
TZOFFSETTO:-0700
TZNAME:MST
DTSTART:20251102T080000
END:STANDARD
BEGIN:DAYLIGHT
TZOFFSETFROM:-0700
TZOFFSETTO:-0600
TZNAME:MDT
DTSTART:20260308T090000
END:DAYLIGHT
BEGIN:STANDARD
TZOFFSETFROM:-0600
TZOFFSETTO:-0700
TZNAME:MST
DTSTART:20261101T080000
END:STANDARD
END:VTIMEZONE
BEGIN:VEVENT
DTSTART;VALUE=DATE:20251019
DTEND;VALUE=DATE:20251020
DTSTAMP:20260423T095829
CREATED:20240925T161156Z
LAST-MODIFIED:20240925T161205Z
UID:18897-1760832000-1760918399@anacs.com
SUMMARY:Tucson Coin Club Show
DESCRIPTION:ANACS Representative:  Mike Bruzas \nShow Promotion:  10 Coins for $140 on Economy Service
URL:https://anacs.com/show/tucson-coin-club-show-8/
LOCATION:Tucson Womans Club\, 6245 East Bellevue St\, Tucson\, AZ\, 85712
GEO:32.2381772;-110.8587853
X-APPLE-STRUCTURED-LOCATION;VALUE=URI;X-ADDRESS=Tucson Womans Club 6245 East Bellevue St Tucson AZ 85712;X-APPLE-RADIUS=500;X-TITLE=6245 East Bellevue St:geo:-110.8587853,32.2381772
END:VEVENT
END:VCALENDAR