BEGIN:VCALENDAR
VERSION:2.0
PRODID:-//ANACS - ECPv6.15.20//NONSGML v1.0//EN
CALSCALE:GREGORIAN
METHOD:PUBLISH
X-WR-CALNAME:ANACS
X-ORIGINAL-URL:https://anacs.com
X-WR-CALDESC:Events for ANACS
REFRESH-INTERVAL;VALUE=DURATION:PT1H
X-Robots-Tag:noindex
X-PUBLISHED-TTL:PT1H
BEGIN:VTIMEZONE
TZID:UTC
BEGIN:STANDARD
TZOFFSETFROM:+0000
TZOFFSETTO:+0000
TZNAME:UTC
DTSTART:20240101T000000
END:STANDARD
END:VTIMEZONE
BEGIN:VEVENT
DTSTART;VALUE=DATE:20251012
DTEND;VALUE=DATE:20251013
DTSTAMP:20260423T151103
CREATED:20250401T171214Z
LAST-MODIFIED:20250401T171214Z
UID:23307-1760227200-1760313599@anacs.com
SUMMARY:Tri-County Coin Club Show
DESCRIPTION:ANACS Representative:  Jim Gerstung \nShow Promotion:  10 Coins for $140 on Economy Service
URL:https://anacs.com/show/tri-county-coin-club-show-4/
LOCATION:Falls Creek Fire Hall\, 4 1st St\, Falls Creek\, PA\, 15840\, United States
GEO:41.1461538;-78.7985738
X-APPLE-STRUCTURED-LOCATION;VALUE=URI;X-ADDRESS=Falls Creek Fire Hall 4 1st St Falls Creek PA 15840 United States;X-APPLE-RADIUS=500;X-TITLE=4 1st St:geo:-78.7985738,41.1461538
END:VEVENT
END:VCALENDAR