BEGIN:VCALENDAR
VERSION:2.0
PRODID:-//ANACS - ECPv6.15.20//NONSGML v1.0//EN
CALSCALE:GREGORIAN
METHOD:PUBLISH
X-WR-CALNAME:ANACS
X-ORIGINAL-URL:https://anacs.com
X-WR-CALDESC:Events for ANACS
REFRESH-INTERVAL;VALUE=DURATION:PT1H
X-Robots-Tag:noindex
X-PUBLISHED-TTL:PT1H
BEGIN:VTIMEZONE
TZID:America/Denver
BEGIN:DAYLIGHT
TZOFFSETFROM:-0700
TZOFFSETTO:-0600
TZNAME:MDT
DTSTART:20240310T090000
END:DAYLIGHT
BEGIN:STANDARD
TZOFFSETFROM:-0600
TZOFFSETTO:-0700
TZNAME:MST
DTSTART:20241103T080000
END:STANDARD
BEGIN:DAYLIGHT
TZOFFSETFROM:-0700
TZOFFSETTO:-0600
TZNAME:MDT
DTSTART:20250309T090000
END:DAYLIGHT
BEGIN:STANDARD
TZOFFSETFROM:-0600
TZOFFSETTO:-0700
TZNAME:MST
DTSTART:20251102T080000
END:STANDARD
BEGIN:DAYLIGHT
TZOFFSETFROM:-0700
TZOFFSETTO:-0600
TZNAME:MDT
DTSTART:20260308T090000
END:DAYLIGHT
BEGIN:STANDARD
TZOFFSETFROM:-0600
TZOFFSETTO:-0700
TZNAME:MST
DTSTART:20261101T080000
END:STANDARD
END:VTIMEZONE
BEGIN:VEVENT
DTSTART;VALUE=DATE:20250905
DTEND;VALUE=DATE:20250907
DTSTAMP:20260421T154606
CREATED:20250313T185936Z
LAST-MODIFIED:20250313T190056Z
UID:23213-1757030400-1757203199@anacs.com
SUMMARY:Sumter Coin Club Show
DESCRIPTION:ANACS Representative:  Rusty Cumberledge \nShow Promotion:  10 Coins for $140 on Economy Service
URL:https://anacs.com/show/sumter-coin-club-show-2/
LOCATION:St Mark Conference Center\, 2320 Four Bridges Road\, Sumter\, SC\, 29153
GEO:33.983292;-80.416036
X-APPLE-STRUCTURED-LOCATION;VALUE=URI;X-ADDRESS=St Mark Conference Center 2320 Four Bridges Road Sumter SC 29153;X-APPLE-RADIUS=500;X-TITLE=2320 Four Bridges Road:geo:-80.416036,33.983292
END:VEVENT
END:VCALENDAR