BEGIN:VCALENDAR
VERSION:2.0
PRODID:-//ANACS - ECPv6.15.20//NONSGML v1.0//EN
CALSCALE:GREGORIAN
METHOD:PUBLISH
X-WR-CALNAME:ANACS
X-ORIGINAL-URL:https://anacs.com
X-WR-CALDESC:Events for ANACS
REFRESH-INTERVAL;VALUE=DURATION:PT1H
X-Robots-Tag:noindex
X-PUBLISHED-TTL:PT1H
BEGIN:VTIMEZONE
TZID:UTC
BEGIN:STANDARD
TZOFFSETFROM:+0000
TZOFFSETTO:+0000
TZNAME:UTC
DTSTART:20240101T000000
END:STANDARD
END:VTIMEZONE
BEGIN:VEVENT
DTSTART;VALUE=DATE:20251115
DTEND;VALUE=DATE:20251117
DTSTAMP:20260425T070928
CREATED:20251024T220452Z
LAST-MODIFIED:20251103T174336Z
UID:23980-1763164800-1763337599@anacs.com
SUMMARY:Portland Coin Show
DESCRIPTION:ANACS Representative:  Bill Coburn \nShow Promotion:  10 Coins for $129 on Economy Service
URL:https://anacs.com/show/portland-coin-show-3/
LOCATION:Holiday Inn Columbia Riverfront\, 909 N Hayden Island Dr\, Portland\, OR\, 97217
GEO:45.612301;-122.677055
X-APPLE-STRUCTURED-LOCATION;VALUE=URI;X-ADDRESS=Holiday Inn Columbia Riverfront 909 N Hayden Island Dr Portland OR 97217;X-APPLE-RADIUS=500;X-TITLE=909 N Hayden Island Dr:geo:-122.677055,45.612301
END:VEVENT
END:VCALENDAR