BEGIN:VCALENDAR
VERSION:2.0
PRODID:-//ANACS - ECPv6.15.20//NONSGML v1.0//EN
CALSCALE:GREGORIAN
METHOD:PUBLISH
X-WR-CALNAME:ANACS
X-ORIGINAL-URL:https://anacs.com
X-WR-CALDESC:Events for ANACS
REFRESH-INTERVAL;VALUE=DURATION:PT1H
X-Robots-Tag:noindex
X-PUBLISHED-TTL:PT1H
BEGIN:VTIMEZONE
TZID:UTC
BEGIN:STANDARD
TZOFFSETFROM:+0000
TZOFFSETTO:+0000
TZNAME:UTC
DTSTART:20240101T000000
END:STANDARD
END:VTIMEZONE
BEGIN:VEVENT
DTSTART;VALUE=DATE:20250504
DTEND;VALUE=DATE:20250505
DTSTAMP:20260423T091235
CREATED:20241025T224552Z
LAST-MODIFIED:20241025T224552Z
UID:19670-1746316800-1746403199@anacs.com
SUMMARY:North Metro Coin Show
DESCRIPTION:ANACS Representative:  Dana Heriot \nShow Promotion:  10 Coins for $140 on Economy Service
URL:https://anacs.com/show/north-metro-coin-show-4/
LOCATION:Cambria Suites Maple Grove\, 9655 Grove Circle North\, Maple Grove\, MN\, United States
GEO:45.1302736;-93.4851846
X-APPLE-STRUCTURED-LOCATION;VALUE=URI;X-ADDRESS=Cambria Suites Maple Grove 9655 Grove Circle North Maple Grove MN United States;X-APPLE-RADIUS=500;X-TITLE=9655 Grove Circle North:geo:-93.4851846,45.1302736
END:VEVENT
END:VCALENDAR