BEGIN:VCALENDAR
VERSION:2.0
PRODID:-//ANACS - ECPv6.15.20//NONSGML v1.0//EN
CALSCALE:GREGORIAN
METHOD:PUBLISH
X-WR-CALNAME:ANACS
X-ORIGINAL-URL:https://anacs.com
X-WR-CALDESC:Events for ANACS
REFRESH-INTERVAL;VALUE=DURATION:PT1H
X-Robots-Tag:noindex
X-PUBLISHED-TTL:PT1H
BEGIN:VTIMEZONE
TZID:UTC
BEGIN:STANDARD
TZOFFSETFROM:+0000
TZOFFSETTO:+0000
TZNAME:UTC
DTSTART:20250101T000000
END:STANDARD
END:VTIMEZONE
BEGIN:VEVENT
DTSTART;VALUE=DATE:20260920
DTEND;VALUE=DATE:20260921
DTSTAMP:20260421T170833
CREATED:20251124T233600Z
LAST-MODIFIED:20251222T203459Z
UID:24141-1789862400-1789948799@anacs.com
SUMMARY:Nashua Coin Show
DESCRIPTION:ANACS Representative:  Steve Martin \nShow Promotion:  10 Coins for $150 on Economy Service
URL:https://anacs.com/show/nashua-coin-show-20/
LOCATION:Alpine Grove Events Center\, 19 S Depot Rd\, Hollis\, NH\, 03049
GEO:42.710334;-71.545022
X-APPLE-STRUCTURED-LOCATION;VALUE=URI;X-ADDRESS=Alpine Grove Events Center 19 S Depot Rd Hollis NH 03049;X-APPLE-RADIUS=500;X-TITLE=19 S Depot Rd:geo:-71.545022,42.710334
END:VEVENT
END:VCALENDAR