BEGIN:VCALENDAR
VERSION:2.0
PRODID:-//ANACS - ECPv6.15.20//NONSGML v1.0//EN
CALSCALE:GREGORIAN
METHOD:PUBLISH
X-WR-CALNAME:ANACS
X-ORIGINAL-URL:https://anacs.com
X-WR-CALDESC:Events for ANACS
REFRESH-INTERVAL;VALUE=DURATION:PT1H
X-Robots-Tag:noindex
X-PUBLISHED-TTL:PT1H
BEGIN:VTIMEZONE
TZID:UTC
BEGIN:STANDARD
TZOFFSETFROM:+0000
TZOFFSETTO:+0000
TZNAME:UTC
DTSTART:20230101T000000
END:STANDARD
END:VTIMEZONE
BEGIN:VEVENT
DTSTART;VALUE=DATE:20240726
DTEND;VALUE=DATE:20240729
DTSTAMP:20260423T142937
CREATED:20240516T213839Z
LAST-MODIFIED:20240516T213845Z
UID:15727-1721952000-1722211199@anacs.com
SUMMARY:Low Country Coin Show
DESCRIPTION:ANACS Representative:  Rusty Cumberledge \nShow Promotion:  10 Coins for $140 on Economy Service
URL:https://anacs.com/show/low-country-coin-show-4/
LOCATION:Exchange Park Fairgrounds\, 9850 Hwy 78\, Ladson\, SC\, 29456
GEO:32.9843416;-80.0913918
X-APPLE-STRUCTURED-LOCATION;VALUE=URI;X-ADDRESS=Exchange Park Fairgrounds 9850 Hwy 78 Ladson SC 29456;X-APPLE-RADIUS=500;X-TITLE=9850 Hwy 78:geo:-80.0913918,32.9843416
END:VEVENT
END:VCALENDAR