BEGIN:VCALENDAR
VERSION:2.0
PRODID:-//ANACS - ECPv6.15.20//NONSGML v1.0//EN
CALSCALE:GREGORIAN
METHOD:PUBLISH
X-WR-CALNAME:ANACS
X-ORIGINAL-URL:https://anacs.com
X-WR-CALDESC:Events for ANACS
REFRESH-INTERVAL;VALUE=DURATION:PT1H
X-Robots-Tag:noindex
X-PUBLISHED-TTL:PT1H
BEGIN:VTIMEZONE
TZID:UTC
BEGIN:STANDARD
TZOFFSETFROM:+0000
TZOFFSETTO:+0000
TZNAME:UTC
DTSTART:20220101T000000
END:STANDARD
END:VTIMEZONE
BEGIN:VEVENT
DTSTART;VALUE=DATE:20230728
DTEND;VALUE=DATE:20230731
DTSTAMP:20260425T144112
CREATED:20230525T161652Z
LAST-MODIFIED:20230612T162437Z
UID:7887-1690502400-1690761599@anacs.com
SUMMARY:Low Country Coin Show
DESCRIPTION:ANACS Representative:  Rusty Cumberledge \nShow Promotion:  10 Coins for $129 on Economy Service
URL:https://anacs.com/show/low-country-coin-show-2/
LOCATION:Exchange Park Fairgrounds\, 9850 Hwy 78\, Ladson\, SC\, 29456
GEO:32.9843416;-80.0913918
X-APPLE-STRUCTURED-LOCATION;VALUE=URI;X-ADDRESS=Exchange Park Fairgrounds 9850 Hwy 78 Ladson SC 29456;X-APPLE-RADIUS=500;X-TITLE=9850 Hwy 78:geo:-80.0913918,32.9843416
END:VEVENT
END:VCALENDAR