BEGIN:VCALENDAR
VERSION:2.0
PRODID:-//ANACS - ECPv6.15.20//NONSGML v1.0//EN
CALSCALE:GREGORIAN
METHOD:PUBLISH
X-WR-CALNAME:ANACS
X-ORIGINAL-URL:https://anacs.com
X-WR-CALDESC:Events for ANACS
REFRESH-INTERVAL;VALUE=DURATION:PT1H
X-Robots-Tag:noindex
X-PUBLISHED-TTL:PT1H
BEGIN:VTIMEZONE
TZID:UTC
BEGIN:STANDARD
TZOFFSETFROM:+0000
TZOFFSETTO:+0000
TZNAME:UTC
DTSTART:20210101T000000
END:STANDARD
END:VTIMEZONE
BEGIN:VEVENT
DTSTART;VALUE=DATE:20220929
DTEND;VALUE=DATE:20221002
DTSTAMP:20260424T192249
CREATED:20220708T071429Z
LAST-MODIFIED:20220708T071429Z
UID:1836-1664409600-1664668799@anacs.com
SUMMARY:Long Beach Expo
DESCRIPTION:ANACS Will Accept Submissions:\nSeptember 29-1\, 2022 \nANACS Representative:\nDennis Fuoss
URL:https://anacs.com/show/long-beach-expo/
LOCATION:Long Beach Convention Center\, 100 South Pine Ave\, Long Beach\, CA\, 90802\, United States
GEO:33.764581;-118.1920637
X-APPLE-STRUCTURED-LOCATION;VALUE=URI;X-ADDRESS=Long Beach Convention Center 100 South Pine Ave Long Beach CA 90802 United States;X-APPLE-RADIUS=500;X-TITLE=100 South Pine Ave:geo:-118.1920637,33.764581
END:VEVENT
END:VCALENDAR