BEGIN:VCALENDAR
VERSION:2.0
PRODID:-//ANACS - ECPv6.15.20//NONSGML v1.0//EN
CALSCALE:GREGORIAN
METHOD:PUBLISH
X-WR-CALNAME:ANACS
X-ORIGINAL-URL:https://anacs.com
X-WR-CALDESC:Events for ANACS
REFRESH-INTERVAL;VALUE=DURATION:PT1H
X-Robots-Tag:noindex
X-PUBLISHED-TTL:PT1H
BEGIN:VTIMEZONE
TZID:UTC
BEGIN:STANDARD
TZOFFSETFROM:+0000
TZOFFSETTO:+0000
TZNAME:UTC
DTSTART:20240101T000000
END:STANDARD
END:VTIMEZONE
BEGIN:VEVENT
DTSTART;VALUE=DATE:20250308
DTEND;VALUE=DATE:20250310
DTSTAMP:20260423T072104
CREATED:20241015T171952Z
LAST-MODIFIED:20241015T171952Z
UID:19457-1741392000-1741564799@anacs.com
SUMMARY:Inland Empire Coin Show
DESCRIPTION:ANACS Representative:  Bill Coburn \nShow Promotion:  10 Coins for $140 on Economy Service
URL:https://anacs.com/show/inland-empire-coin-show-6/
LOCATION:Kootenai County Fairgrounds\, 4056 N Government Way\, Coeur d'Alene\, ID\, 83815\, United States
GEO:47.7175242;-116.786017
X-APPLE-STRUCTURED-LOCATION;VALUE=URI;X-ADDRESS=Kootenai County Fairgrounds 4056 N Government Way Coeur d'Alene ID 83815 United States;X-APPLE-RADIUS=500;X-TITLE=4056 N Government Way:geo:-116.786017,47.7175242
END:VEVENT
END:VCALENDAR