BEGIN:VCALENDAR
VERSION:2.0
PRODID:-//ANACS - ECPv6.15.20//NONSGML v1.0//EN
CALSCALE:GREGORIAN
METHOD:PUBLISH
X-WR-CALNAME:ANACS
X-ORIGINAL-URL:https://anacs.com
X-WR-CALDESC:Events for ANACS
REFRESH-INTERVAL;VALUE=DURATION:PT1H
X-Robots-Tag:noindex
X-PUBLISHED-TTL:PT1H
BEGIN:VTIMEZONE
TZID:UTC
BEGIN:STANDARD
TZOFFSETFROM:+0000
TZOFFSETTO:+0000
TZNAME:UTC
DTSTART:20240101T000000
END:STANDARD
END:VTIMEZONE
BEGIN:VEVENT
DTSTART;VALUE=DATE:20250919
DTEND;VALUE=DATE:20250921
DTSTAMP:20260423T121809
CREATED:20250728T211337Z
LAST-MODIFIED:20250728T211337Z
UID:23721-1758240000-1758412799@anacs.com
SUMMARY:Harrisburg Coin Show
DESCRIPTION:ANACS Representative:  Jim Gerstung \nShow Promotion:  10 Coins for $140 on Economy Service
URL:https://anacs.com/show/harrisburg-coin-show-3/
LOCATION:Scottish Rite Entertainment Complex\, 2701 N 3rd St\, Harrisburg\, PA\, 17110
GEO:40.289671;-76.9000102
X-APPLE-STRUCTURED-LOCATION;VALUE=URI;X-ADDRESS=Scottish Rite Entertainment Complex 2701 N 3rd St Harrisburg PA 17110;X-APPLE-RADIUS=500;X-TITLE=2701 N 3rd St:geo:-76.9000102,40.289671
END:VEVENT
END:VCALENDAR