BEGIN:VCALENDAR
VERSION:2.0
PRODID:-//ANACS - ECPv6.15.20//NONSGML v1.0//EN
CALSCALE:GREGORIAN
METHOD:PUBLISH
X-WR-CALNAME:ANACS
X-ORIGINAL-URL:https://anacs.com
X-WR-CALDESC:Events for ANACS
REFRESH-INTERVAL;VALUE=DURATION:PT1H
X-Robots-Tag:noindex
X-PUBLISHED-TTL:PT1H
BEGIN:VTIMEZONE
TZID:UTC
BEGIN:STANDARD
TZOFFSETFROM:+0000
TZOFFSETTO:+0000
TZNAME:UTC
DTSTART:20240101T000000
END:STANDARD
END:VTIMEZONE
BEGIN:VEVENT
DTSTART;VALUE=DATE:20250411
DTEND;VALUE=DATE:20250414
DTSTAMP:20260425T054847
CREATED:20250127T185212Z
LAST-MODIFIED:20250127T185212Z
UID:22398-1744329600-1744588799@anacs.com
SUMMARY:Georgia Numismatic Association Coin Show
DESCRIPTION:ANACS Representative:  Rusty Cumberledge \nShow Promotion:  10 Coins for $140 on Economy Service
URL:https://anacs.com/show/georgia-numismatic-association-coin-show-3/
LOCATION:Dalton Convention Center\, 2211 Tony Ingle Parkway\, Dalton\, GA\, 30720\, United States
GEO:34.7593868;-85.0053158
X-APPLE-STRUCTURED-LOCATION;VALUE=URI;X-ADDRESS=Dalton Convention Center 2211 Tony Ingle Parkway Dalton GA 30720 United States;X-APPLE-RADIUS=500;X-TITLE=2211 Tony Ingle Parkway:geo:-85.0053158,34.7593868
END:VEVENT
END:VCALENDAR