BEGIN:VCALENDAR
VERSION:2.0
PRODID:-//ANACS - ECPv6.15.20//NONSGML v1.0//EN
CALSCALE:GREGORIAN
METHOD:PUBLISH
X-WR-CALNAME:ANACS
X-ORIGINAL-URL:https://anacs.com
X-WR-CALDESC:Events for ANACS
REFRESH-INTERVAL;VALUE=DURATION:PT1H
X-Robots-Tag:noindex
X-PUBLISHED-TTL:PT1H
BEGIN:VTIMEZONE
TZID:America/Denver
BEGIN:DAYLIGHT
TZOFFSETFROM:-0700
TZOFFSETTO:-0600
TZNAME:MDT
DTSTART:20250309T090000
END:DAYLIGHT
BEGIN:STANDARD
TZOFFSETFROM:-0600
TZOFFSETTO:-0700
TZNAME:MST
DTSTART:20251102T080000
END:STANDARD
BEGIN:DAYLIGHT
TZOFFSETFROM:-0700
TZOFFSETTO:-0600
TZNAME:MDT
DTSTART:20260308T090000
END:DAYLIGHT
BEGIN:STANDARD
TZOFFSETFROM:-0600
TZOFFSETTO:-0700
TZNAME:MST
DTSTART:20261101T080000
END:STANDARD
BEGIN:DAYLIGHT
TZOFFSETFROM:-0700
TZOFFSETTO:-0600
TZNAME:MDT
DTSTART:20270314T090000
END:DAYLIGHT
BEGIN:STANDARD
TZOFFSETFROM:-0600
TZOFFSETTO:-0700
TZNAME:MST
DTSTART:20271107T080000
END:STANDARD
END:VTIMEZONE
BEGIN:VEVENT
DTSTART;VALUE=DATE:20260418
DTEND;VALUE=DATE:20260419
DTSTAMP:20260425T084534
CREATED:20260415T174653Z
LAST-MODIFIED:20260415T175038Z
UID:24927-1776470400-1776556799@anacs.com
SUMMARY:Ft Worth Coin Club Show***SATURDAY ONLY***
DESCRIPTION:ANACS Representative:  Christian Merlo & George Morris \nShow Promotion:  10 Coins for $150 on Economy Service
URL:https://anacs.com/show/ft-worth-coin-club-showsaturday-only/
LOCATION:Pecan Grove Convention Center\, 405 N Las Vegas Trail\, White Settlement\, TX\, 76108
GEO:32.773426055908;-97.46858215332
X-APPLE-STRUCTURED-LOCATION;VALUE=URI;X-ADDRESS=Pecan Grove Convention Center 405 N Las Vegas Trail White Settlement TX 76108;X-APPLE-RADIUS=500;X-TITLE=405 N Las Vegas Trail:geo:-97.46858215332,32.773426055908
END:VEVENT
END:VCALENDAR