BEGIN:VCALENDAR
VERSION:2.0
PRODID:-//ANACS - ECPv6.15.20//NONSGML v1.0//EN
CALSCALE:GREGORIAN
METHOD:PUBLISH
X-WR-CALNAME:ANACS
X-ORIGINAL-URL:https://anacs.com
X-WR-CALDESC:Events for ANACS
REFRESH-INTERVAL;VALUE=DURATION:PT1H
X-Robots-Tag:noindex
X-PUBLISHED-TTL:PT1H
BEGIN:VTIMEZONE
TZID:UTC
BEGIN:STANDARD
TZOFFSETFROM:+0000
TZOFFSETTO:+0000
TZNAME:UTC
DTSTART:20250101T000000
END:STANDARD
END:VTIMEZONE
BEGIN:VEVENT
DTSTART;VALUE=DATE:20260815
DTEND;VALUE=DATE:20260817
DTSTAMP:20260424T021341
CREATED:20260209T211927Z
LAST-MODIFIED:20260209T211927Z
UID:24681-1786752000-1786924799@anacs.com
SUMMARY:Florence Coin Show
DESCRIPTION:ANACS Representative:  Bill Coburn \nShow Promotion:  10 Coins for $150 on Economy Service
URL:https://anacs.com/show/florence-coin-show-4/
LOCATION:Florence Event Center\, 715 Quince St\, Florence\, OR\, 97439\, United States
GEO:43.9724275;-124.1020963
X-APPLE-STRUCTURED-LOCATION;VALUE=URI;X-ADDRESS=Florence Event Center 715 Quince St Florence OR 97439 United States;X-APPLE-RADIUS=500;X-TITLE=715 Quince St:geo:-124.1020963,43.9724275
END:VEVENT
END:VCALENDAR