BEGIN:VCALENDAR
VERSION:2.0
PRODID:-//ANACS - ECPv6.15.20//NONSGML v1.0//EN
CALSCALE:GREGORIAN
METHOD:PUBLISH
X-WR-CALNAME:ANACS
X-ORIGINAL-URL:https://anacs.com
X-WR-CALDESC:Events for ANACS
REFRESH-INTERVAL;VALUE=DURATION:PT1H
X-Robots-Tag:noindex
X-PUBLISHED-TTL:PT1H
BEGIN:VTIMEZONE
TZID:America/Denver
BEGIN:DAYLIGHT
TZOFFSETFROM:-0700
TZOFFSETTO:-0600
TZNAME:MDT
DTSTART:20250309T090000
END:DAYLIGHT
BEGIN:STANDARD
TZOFFSETFROM:-0600
TZOFFSETTO:-0700
TZNAME:MST
DTSTART:20251102T080000
END:STANDARD
BEGIN:DAYLIGHT
TZOFFSETFROM:-0700
TZOFFSETTO:-0600
TZNAME:MDT
DTSTART:20260308T090000
END:DAYLIGHT
BEGIN:STANDARD
TZOFFSETFROM:-0600
TZOFFSETTO:-0700
TZNAME:MST
DTSTART:20261101T080000
END:STANDARD
BEGIN:DAYLIGHT
TZOFFSETFROM:-0700
TZOFFSETTO:-0600
TZNAME:MDT
DTSTART:20270314T090000
END:DAYLIGHT
BEGIN:STANDARD
TZOFFSETFROM:-0600
TZOFFSETTO:-0700
TZNAME:MST
DTSTART:20271107T080000
END:STANDARD
END:VTIMEZONE
BEGIN:VEVENT
DTSTART;VALUE=DATE:20260118
DTEND;VALUE=DATE:20260119
DTSTAMP:20260423T150445
CREATED:20260115T164725Z
LAST-MODIFIED:20260115T164725Z
UID:24608-1768694400-1768780799@anacs.com
SUMMARY:Columbus Coin Show
DESCRIPTION:ANACS Representative:  Heath MacAlpine \nShow Promotion:  10 Coins for $150 on Economy Service
URL:https://anacs.com/show/columbus-coin-show-10/
LOCATION:Makoy Center\, 5462 Center Street\, Hilliard\, OH\, 43026
GEO:40.03685;-83.16355
X-APPLE-STRUCTURED-LOCATION;VALUE=URI;X-ADDRESS=Makoy Center 5462 Center Street Hilliard OH 43026;X-APPLE-RADIUS=500;X-TITLE=5462 Center Street:geo:-83.16355,40.03685
END:VEVENT
END:VCALENDAR