BEGIN:VCALENDAR
VERSION:2.0
PRODID:-//ANACS - ECPv6.15.20//NONSGML v1.0//EN
CALSCALE:GREGORIAN
METHOD:PUBLISH
X-WR-CALNAME:ANACS
X-ORIGINAL-URL:https://anacs.com
X-WR-CALDESC:Events for ANACS
REFRESH-INTERVAL;VALUE=DURATION:PT1H
X-Robots-Tag:noindex
X-PUBLISHED-TTL:PT1H
BEGIN:VTIMEZONE
TZID:UTC
BEGIN:STANDARD
TZOFFSETFROM:+0000
TZOFFSETTO:+0000
TZNAME:UTC
DTSTART:20210101T000000
END:STANDARD
END:VTIMEZONE
BEGIN:VEVENT
DTSTART;VALUE=DATE:20220717
DTEND;VALUE=DATE:20220718
DTSTAMP:20260425T084354
CREATED:20220708T013148Z
LAST-MODIFIED:20220708T013148Z
UID:1727-1658016000-1658102399@anacs.com
SUMMARY:Central PA Coin Club Show
DESCRIPTION:ANACS Will Accept Submissions:\nJuly 17\, 2022 \nANACS Representative:\nJim Gerstung
URL:https://anacs.com/show/central-pa-coin-club-show/
LOCATION:Hope Fire Hall\, 500 N 6th Street\, Philipsburg\, PA\, United States
GEO:40.9020362;-78.2208679
X-APPLE-STRUCTURED-LOCATION;VALUE=URI;X-ADDRESS=Hope Fire Hall 500 N 6th Street Philipsburg PA United States;X-APPLE-RADIUS=500;X-TITLE=500 N 6th Street:geo:-78.2208679,40.9020362
END:VEVENT
END:VCALENDAR