BEGIN:VCALENDAR
VERSION:2.0
PRODID:-//ANACS - ECPv6.15.20//NONSGML v1.0//EN
CALSCALE:GREGORIAN
METHOD:PUBLISH
X-WR-CALNAME:ANACS
X-ORIGINAL-URL:https://anacs.com
X-WR-CALDESC:Events for ANACS
REFRESH-INTERVAL;VALUE=DURATION:PT1H
X-Robots-Tag:noindex
X-PUBLISHED-TTL:PT1H
BEGIN:VTIMEZONE
TZID:UTC
BEGIN:STANDARD
TZOFFSETFROM:+0000
TZOFFSETTO:+0000
TZNAME:UTC
DTSTART:20220101T000000
END:STANDARD
END:VTIMEZONE
BEGIN:VEVENT
DTSTART;VALUE=DATE:20230915
DTEND;VALUE=DATE:20230917
DTSTAMP:20260425T053602
CREATED:20230814T183832Z
LAST-MODIFIED:20230814T183847Z
UID:9634-1694736000-1694908799@anacs.com
SUMMARY:Camden Coin Club Show
DESCRIPTION:ANACS Representative:  Rusty Cumberledge \nShow Promotion:  10 Coins for $129 on Economy Service
URL:https://anacs.com/show/camden-coin-club-show-2/
LOCATION:Camden City Arena\, 420 Broad St\, Camden\, SC\, 29020
GEO:34.2361327;-80.6055041
X-APPLE-STRUCTURED-LOCATION;VALUE=URI;X-ADDRESS=Camden City Arena 420 Broad St Camden SC 29020;X-APPLE-RADIUS=500;X-TITLE=420 Broad St:geo:-80.6055041,34.2361327
END:VEVENT
END:VCALENDAR