BEGIN:VCALENDAR
VERSION:2.0
PRODID:-//ANACS - ECPv6.15.20//NONSGML v1.0//EN
CALSCALE:GREGORIAN
METHOD:PUBLISH
X-WR-CALNAME:ANACS
X-ORIGINAL-URL:https://anacs.com
X-WR-CALDESC:Events for ANACS
REFRESH-INTERVAL;VALUE=DURATION:PT1H
X-Robots-Tag:noindex
X-PUBLISHED-TTL:PT1H
BEGIN:VTIMEZONE
TZID:America/Denver
BEGIN:DAYLIGHT
TZOFFSETFROM:-0700
TZOFFSETTO:-0600
TZNAME:MDT
DTSTART:20230312T090000
END:DAYLIGHT
BEGIN:STANDARD
TZOFFSETFROM:-0600
TZOFFSETTO:-0700
TZNAME:MST
DTSTART:20231105T080000
END:STANDARD
BEGIN:DAYLIGHT
TZOFFSETFROM:-0700
TZOFFSETTO:-0600
TZNAME:MDT
DTSTART:20240310T090000
END:DAYLIGHT
BEGIN:STANDARD
TZOFFSETFROM:-0600
TZOFFSETTO:-0700
TZNAME:MST
DTSTART:20241103T080000
END:STANDARD
BEGIN:DAYLIGHT
TZOFFSETFROM:-0700
TZOFFSETTO:-0600
TZNAME:MDT
DTSTART:20250309T090000
END:DAYLIGHT
BEGIN:STANDARD
TZOFFSETFROM:-0600
TZOFFSETTO:-0700
TZNAME:MST
DTSTART:20251102T080000
END:STANDARD
END:VTIMEZONE
BEGIN:VEVENT
DTSTART;VALUE=DATE:20241109
DTEND;VALUE=DATE:20241110
DTSTAMP:20260424T162515
CREATED:20240627T200121Z
LAST-MODIFIED:20240627T200137Z
UID:16589-1731110400-1731196799@anacs.com
SUMMARY:Cambridge Coin Show
DESCRIPTION:ANACS Representative:  Bill Kelley \nShow Promotion:  10 Coins for $140 on Economy Service
URL:https://anacs.com/show/cambridge-coin-show-2/
LOCATION:American Legion Post 91 Cambridge\, 98 Sunburst Highway\, Cambridge\, MD\, 21613
GEO:38.56847;-76.06422
X-APPLE-STRUCTURED-LOCATION;VALUE=URI;X-ADDRESS=American Legion Post 91 Cambridge 98 Sunburst Highway Cambridge MD 21613;X-APPLE-RADIUS=500;X-TITLE=98 Sunburst Highway:geo:-76.06422,38.56847
END:VEVENT
END:VCALENDAR