BEGIN:VCALENDAR
VERSION:2.0
PRODID:-//ANACS - ECPv6.15.20//NONSGML v1.0//EN
CALSCALE:GREGORIAN
METHOD:PUBLISH
X-WR-CALNAME:ANACS
X-ORIGINAL-URL:https://anacs.com
X-WR-CALDESC:Events for ANACS
REFRESH-INTERVAL;VALUE=DURATION:PT1H
X-Robots-Tag:noindex
X-PUBLISHED-TTL:PT1H
BEGIN:VTIMEZONE
TZID:UTC
BEGIN:STANDARD
TZOFFSETFROM:+0000
TZOFFSETTO:+0000
TZNAME:UTC
DTSTART:20230101T000000
END:STANDARD
END:VTIMEZONE
BEGIN:VEVENT
DTSTART;VALUE=DATE:20240915
DTEND;VALUE=DATE:20240916
DTSTAMP:20260424T151800
CREATED:20231219T204520Z
LAST-MODIFIED:20240409T154519Z
UID:12534-1726358400-1726444799@anacs.com
SUMMARY:BNA Monthly Coin Show and Bourse
DESCRIPTION:ANACS Representative:  Jim Gerstung \nShow Promotion:  10 Coins for $140 on Economy Service
URL:https://anacs.com/show/bna-monthly-coin-show-and-bourse-11/
LOCATION:Knights of Columbus Cheektowaga\, 2735 Union RD\, Cheektowaga\, NY\, 14227
GEO:42.8865485;-78.7533519
X-APPLE-STRUCTURED-LOCATION;VALUE=URI;X-ADDRESS=Knights of Columbus Cheektowaga 2735 Union RD Cheektowaga NY 14227;X-APPLE-RADIUS=500;X-TITLE=2735 Union RD:geo:-78.7533519,42.8865485
END:VEVENT
END:VCALENDAR