BEGIN:VCALENDAR
VERSION:2.0
PRODID:-//ANACS - ECPv6.15.20//NONSGML v1.0//EN
CALSCALE:GREGORIAN
METHOD:PUBLISH
X-WR-CALNAME:ANACS
X-ORIGINAL-URL:https://anacs.com
X-WR-CALDESC:Events for ANACS
REFRESH-INTERVAL;VALUE=DURATION:PT1H
X-Robots-Tag:noindex
X-PUBLISHED-TTL:PT1H
BEGIN:VTIMEZONE
TZID:UTC
BEGIN:STANDARD
TZOFFSETFROM:+0000
TZOFFSETTO:+0000
TZNAME:UTC
DTSTART:20250101T000000
END:STANDARD
END:VTIMEZONE
BEGIN:VEVENT
DTSTART;VALUE=DATE:20260321
DTEND;VALUE=DATE:20260322
DTSTAMP:20260425T115326
CREATED:20251114T235230Z
LAST-MODIFIED:20251114T235230Z
UID:24099-1774051200-1774137599@anacs.com
SUMMARY:Ancient City Coin Club Show
DESCRIPTION:ANACS Representative:  Terry Morrissey \nShow Promotion:  10 Coins for $140 on Economy Service
URL:https://anacs.com/show/ancient-city-coin-club-show-5/
LOCATION:St. Johns County Agricultural Center\, 3125 Agricultural Center Dr\, St. Augustine\, FL\, 32092\, United States
GEO:29.9048778;-81.4101262
X-APPLE-STRUCTURED-LOCATION;VALUE=URI;X-ADDRESS=St. Johns County Agricultural Center 3125 Agricultural Center Dr St. Augustine FL 32092 United States;X-APPLE-RADIUS=500;X-TITLE=3125 Agricultural Center Dr:geo:-81.4101262,29.9048778
END:VEVENT
END:VCALENDAR